BEGIN:VCALENDAR
VERSION:2.0
PRODID:-//Brew With Bones - Calendar - ECPv6.6.4.2//NONSGML v1.0//EN
CALSCALE:GREGORIAN
METHOD:PUBLISH
X-ORIGINAL-URL:https://calendar.brewwithbones.com
X-WR-CALDESC:Events for Brew With Bones - Calendar
REFRESH-INTERVAL;VALUE=DURATION:PT1H
X-Robots-Tag:noindex
X-PUBLISHED-TTL:PT1H
BEGIN:VTIMEZONE
TZID:UTC
BEGIN:STANDARD
TZOFFSETFROM:+0000
TZOFFSETTO:+0000
TZNAME:UTC
DTSTART:20250101T000000
END:STANDARD
END:VTIMEZONE
BEGIN:VEVENT
DTSTART;VALUE=DATE:20251130
DTEND;VALUE=DATE:20251213
DTSTAMP:20260423T204909
CREATED:20251113T052325Z
LAST-MODIFIED:20251113T052325Z
UID:2487-1764460800-1765583999@calendar.brewwithbones.com
SUMMARY:AO Davos Courses 2025: The future of medical education—register today
DESCRIPTION:
URL:https://calendar.brewwithbones.com/event/ao-davos-courses-2025-the-future-of-medical-education-register-today/
LOCATION:Davos\, Switzerland
CATEGORIES:Course,Spine (incl. trauma),Sports Trauma & Orthopaedics,Traumatology
END:VEVENT
BEGIN:VEVENT
DTSTART;VALUE=DATE:20251202
DTEND;VALUE=DATE:20251207
DTSTAMP:20260423T204909
CREATED:20251113T060554Z
LAST-MODIFIED:20251113T060554Z
UID:2497-1764633600-1765065599@calendar.brewwithbones.com
SUMMARY:Pediatric Orthopaedic Society of North America (POSNA): IPOS® 2025 (International Pediatric Orthopaedic Symposium)
DESCRIPTION:
URL:https://calendar.brewwithbones.com/event/pediatric-orthopaedic-society-of-north-america-posna-ipos-2025-international-pediatric-orthopaedic-symposium/
LOCATION:Orlando\, United States
CATEGORIES:Paediatric Orthopaedics,Symposium
END:VEVENT
BEGIN:VEVENT
DTSTART;VALUE=DATE:20251204
DTEND;VALUE=DATE:20251207
DTSTAMP:20260423T204909
CREATED:20251113T060912Z
LAST-MODIFIED:20251113T060912Z
UID:2506-1764806400-1765065599@calendar.brewwithbones.com
SUMMARY:20th Annual UCSF Sports Medicine Conference
DESCRIPTION:
URL:https://calendar.brewwithbones.com/event/20th-annual-ucsf-sports-medicine-conference/
LOCATION:San Francisco\, United States
CATEGORIES:Conference,Sports Trauma & Orthopaedics
END:VEVENT
BEGIN:VEVENT
DTSTART;VALUE=DATE:20251205
DTEND;VALUE=DATE:20251207
DTSTAMP:20260423T204909
CREATED:20251113T061205Z
LAST-MODIFIED:20251113T061205Z
UID:2514-1764892800-1765065599@calendar.brewwithbones.com
SUMMARY:Advanced Arthroplasty Course Adana 2025
DESCRIPTION:
URL:https://calendar.brewwithbones.com/event/advanced-arthroplasty-course-adana-2025/
LOCATION:Adana\, Turkey
CATEGORIES:Arthroplasty,Course
END:VEVENT
BEGIN:VEVENT
DTSTART;VALUE=DATE:20251206
DTEND;VALUE=DATE:20251207
DTSTAMP:20260423T204909
CREATED:20251113T061306Z
LAST-MODIFIED:20251113T061306Z
UID:2517-1764979200-1765065599@calendar.brewwithbones.com
SUMMARY:AANA Comprehensive Arthroscopic Refinement: Pick Your Procedures\, Pick Your Joint
DESCRIPTION:
URL:https://calendar.brewwithbones.com/event/aana-comprehensive-arthroscopic-refinement-pick-your-procedures-pick-your-joint/
LOCATION:Rosemont\, United States
CATEGORIES:Arthroscopy,Course
END:VEVENT
BEGIN:VEVENT
DTSTART;VALUE=DATE:20251206
DTEND;VALUE=DATE:20251207
DTSTAMP:20260423T204909
CREATED:20251113T061547Z
LAST-MODIFIED:20251113T061547Z
UID:2521-1764979200-1765065599@calendar.brewwithbones.com
SUMMARY:Intensive FRCS (Orth) mock viva and clinical exam course
DESCRIPTION:
URL:https://calendar.brewwithbones.com/event/intensive-frcs-orth-mock-viva-and-clinical-exam-course/
CATEGORIES:Basic Science,Course,General Orthopaedics
END:VEVENT
BEGIN:VEVENT
DTSTART;VALUE=DATE:20251206
DTEND;VALUE=DATE:20251210
DTSTAMP:20260423T204909
CREATED:20251113T061439Z
LAST-MODIFIED:20251113T061439Z
UID:2519-1764979200-1765324799@calendar.brewwithbones.com
SUMMARY:AO Trauma Masters Course—Hand & Wrist (With Human Anatomical Specimens)
DESCRIPTION:
URL:https://calendar.brewwithbones.com/event/ao-trauma-masters-course-hand-wrist-with-human-anatomical-specimens/
LOCATION:Davos\, Switzerland
CATEGORIES:Course,Wrist & Hand,Wrist & Hand Trauma
END:VEVENT
END:VCALENDAR