BEGIN:VCALENDAR
VERSION:2.0
PRODID:-//Brew With Bones - Calendar - ECPv6.6.4.2//NONSGML v1.0//EN
CALSCALE:GREGORIAN
METHOD:PUBLISH
X-WR-CALNAME:Brew With Bones - Calendar
X-ORIGINAL-URL:https://calendar.brewwithbones.com
X-WR-CALDESC:Events for Brew With Bones - Calendar
REFRESH-INTERVAL;VALUE=DURATION:PT1H
X-Robots-Tag:noindex
X-PUBLISHED-TTL:PT1H
BEGIN:VTIMEZONE
TZID:UTC
BEGIN:STANDARD
TZOFFSETFROM:+0000
TZOFFSETTO:+0000
TZNAME:UTC
DTSTART:20260101T000000
END:STANDARD
END:VTIMEZONE
BEGIN:VEVENT
DTSTART;VALUE=DATE:20260415
DTEND;VALUE=DATE:20260420
DTSTAMP:20260419T191812
CREATED:20251201T035612Z
LAST-MODIFIED:20251201T035612Z
UID:2685-1776211200-1776643199@calendar.brewwithbones.com
SUMMARY:The Association of Bone and Joint Surgeons (ABJS) 78th Annual Meeting
DESCRIPTION:
URL:https://calendar.brewwithbones.com/event/the-association-of-bone-and-joint-surgeons-abjs-78th-annual-meeting/
LOCATION:Napa\, United States
CATEGORIES:Bone & Joint,Bone & Joint Infection,Congress
END:VEVENT
END:VCALENDAR