BEGIN:VCALENDAR
VERSION:2.0
PRODID:-//Brew With Bones - Calendar - ECPv6.6.4.2//NONSGML v1.0//EN
CALSCALE:GREGORIAN
METHOD:PUBLISH
X-WR-CALNAME:Brew With Bones - Calendar
X-ORIGINAL-URL:https://calendar.brewwithbones.com
X-WR-CALDESC:Events for Brew With Bones - Calendar
REFRESH-INTERVAL;VALUE=DURATION:PT1H
X-Robots-Tag:noindex
X-PUBLISHED-TTL:PT1H
BEGIN:VTIMEZONE
TZID:UTC
BEGIN:STANDARD
TZOFFSETFROM:+0000
TZOFFSETTO:+0000
TZNAME:UTC
DTSTART:20260101T000000
END:STANDARD
END:VTIMEZONE
BEGIN:VEVENT
DTSTART;VALUE=DATE:20260423
DTEND;VALUE=DATE:20260425
DTSTAMP:20260419T202231
CREATED:20251201T040154Z
LAST-MODIFIED:20251201T040154Z
UID:2695-1776902400-1777075199@calendar.brewwithbones.com
SUMMARY:Gijón Knee Sports Meeting GKSM 2026
DESCRIPTION:
URL:https://calendar.brewwithbones.com/event/gijon-knee-sports-meeting-gksm-2026/
LOCATION:Gijón\, Spain
CATEGORIES:Conference,Knee & Lower Leg,Knee & Lower Leg Trauma,Sports Trauma & Orthopaedics
END:VEVENT
BEGIN:VEVENT
DTSTART;VALUE=DATE:20260609
DTEND;VALUE=DATE:20260614
DTSTAMP:20260419T202231
CREATED:20251128T152513Z
LAST-MODIFIED:20251128T152513Z
UID:2640-1780963200-1781395199@calendar.brewwithbones.com
SUMMARY:25th International Conference on Emergency Medicine ICEM 2026
DESCRIPTION:
URL:https://calendar.brewwithbones.com/event/25th-international-conference-on-emergency-medicine-icem-2026/
LOCATION:Hamburg\, Germany
CATEGORIES:Conference,Traumatology
END:VEVENT
BEGIN:VEVENT
DTSTART;VALUE=DATE:20260911
DTEND;VALUE=DATE:20260913
DTSTAMP:20260419T202231
CREATED:20251201T052116Z
LAST-MODIFIED:20251201T052116Z
UID:2731-1789084800-1789257599@calendar.brewwithbones.com
SUMMARY:ESSKA–EKA Focus Meeting 2026 “All About Fast-Track Knee Arthroplasty: In the Era of Technology and Digital Health”
DESCRIPTION:
URL:https://calendar.brewwithbones.com/event/esska-eka-focus-meeting-2026-all-about-fast-track-knee-arthroplasty-in-the-era-of-technology-and-digital-health/
LOCATION:Thessaloniki\, Greece
CATEGORIES:Arthroplasty,Conference,Knee & Lower Leg,Knee & Lower Leg Trauma
END:VEVENT
BEGIN:VEVENT
DTSTART;VALUE=DATE:20260917
DTEND;VALUE=DATE:20260920
DTSTAMP:20260419T202231
CREATED:20251201T052348Z
LAST-MODIFIED:20251201T052348Z
UID:2737-1789603200-1789862399@calendar.brewwithbones.com
SUMMARY:Joint EBJIS-MSIS 2026 Conference
DESCRIPTION:
URL:https://calendar.brewwithbones.com/event/joint-ebjis-msis-2026-conference/
LOCATION:Porto\, Portugal
CATEGORIES:Bone & Joint,Bone & Joint Infection,Conference,Musculoskeletal Infections
END:VEVENT
BEGIN:VEVENT
DTSTART;VALUE=DATE:20261109
DTEND;VALUE=DATE:20261111
DTSTAMP:20260419T202231
CREATED:20260329T184529Z
LAST-MODIFIED:20260329T184529Z
UID:2808-1794182400-1794355199@calendar.brewwithbones.com
SUMMARY:6th International Conference on Arthroplasty and Orthopedic Surgery
DESCRIPTION:
URL:https://calendar.brewwithbones.com/event/6th-international-conference-on-arthroplasty-and-orthopedic-surgery/
LOCATION:Bangkok\, Thailand
CATEGORIES:Arthroplasty,Conference,General Orthopaedics
END:VEVENT
BEGIN:VEVENT
DTSTART;VALUE=DATE:20261226
DTEND;VALUE=DATE:20261227
DTSTAMP:20260419T202231
CREATED:20260330T092624Z
LAST-MODIFIED:20260330T092624Z
UID:2963-1798243200-1798329599@calendar.brewwithbones.com
SUMMARY:TOTBİD Spine Branch Mersin Regional Meeting
DESCRIPTION:
URL:https://calendar.brewwithbones.com/event/totbid-spine-branch-mersin-regional-meeting/
LOCATION:Myrtle\, Turkey\, Turkey
CATEGORIES:Conference,Spine (incl. trauma)
END:VEVENT
END:VCALENDAR