BEGIN:VCALENDAR
VERSION:2.0
PRODID:-//Brew With Bones - Calendar - ECPv6.6.4.2//NONSGML v1.0//EN
CALSCALE:GREGORIAN
METHOD:PUBLISH
X-WR-CALNAME:Brew With Bones - Calendar
X-ORIGINAL-URL:https://calendar.brewwithbones.com
X-WR-CALDESC:Events for Brew With Bones - Calendar
REFRESH-INTERVAL;VALUE=DURATION:PT1H
X-Robots-Tag:noindex
X-PUBLISHED-TTL:PT1H
BEGIN:VTIMEZONE
TZID:UTC
BEGIN:STANDARD
TZOFFSETFROM:+0000
TZOFFSETTO:+0000
TZNAME:UTC
DTSTART:20250101T000000
END:STANDARD
END:VTIMEZONE
BEGIN:VEVENT
DTSTART;VALUE=DATE:20251203
DTEND;VALUE=DATE:20251206
DTSTAMP:20260423T211551
CREATED:20251113T060703Z
LAST-MODIFIED:20251113T060703Z
UID:2500-1764720000-1764979199@calendar.brewwithbones.com
SUMMARY:Musculoskeletal Tumor Society (MSTS) 2025 Annual Meeting
DESCRIPTION:
URL:https://calendar.brewwithbones.com/event/musculoskeletal-tumor-society-msts-2025-annual-meeting/
LOCATION:Ciudad de México\, Mexico
CATEGORIES:Congress,Musculoskeletal Tumors
END:VEVENT
BEGIN:VEVENT
DTSTART;VALUE=DATE:20251203
DTEND;VALUE=DATE:20251206
DTSTAMP:20260423T211551
CREATED:20251113T060806Z
LAST-MODIFIED:20251113T060806Z
UID:2503-1764720000-1764979199@calendar.brewwithbones.com
SUMMARY:SFA Nantes 2025
DESCRIPTION:
URL:https://calendar.brewwithbones.com/event/sfa-nantes-2025/
LOCATION:Nantes\, France
CATEGORIES:Arthroscopy,Congress
END:VEVENT
BEGIN:VEVENT
DTSTART;VALUE=DATE:20251204
DTEND;VALUE=DATE:20251206
DTSTAMP:20260423T211551
CREATED:20251113T061007Z
LAST-MODIFIED:20251113T061007Z
UID:2509-1764806400-1764979199@calendar.brewwithbones.com
SUMMARY:27th AE Annual Congress 2025
DESCRIPTION:
URL:https://calendar.brewwithbones.com/event/27th-ae-annual-congress-2025/
LOCATION:Berlin\, Germany
CATEGORIES:Arthroplasty,Congress
END:VEVENT
BEGIN:VEVENT
DTSTART;VALUE=DATE:20251204
DTEND;VALUE=DATE:20251206
DTSTAMP:20260423T211551
CREATED:20251113T061101Z
LAST-MODIFIED:20251113T061101Z
UID:2511-1764806400-1764979199@calendar.brewwithbones.com
SUMMARY:WUKO – 08. Nürnberger Wundkongress
DESCRIPTION:
URL:https://calendar.brewwithbones.com/event/wuko-08-nurnberger-wundkongress/
LOCATION:Nürnberg\, Germany
CATEGORIES:Congress,Wound Management
END:VEVENT
BEGIN:VEVENT
DTSTART;VALUE=DATE:20251210
DTEND;VALUE=DATE:20251213
DTSTAMP:20260423T211551
CREATED:20251113T061907Z
LAST-MODIFIED:20251113T061907Z
UID:2528-1765324800-1765583999@calendar.brewwithbones.com
SUMMARY:20th Annual Meeting of the German Spine Society
DESCRIPTION:
URL:https://calendar.brewwithbones.com/event/20th-annual-meeting-of-the-german-spine-society/
LOCATION:Wiesbaden\, Germany
CATEGORIES:Congress,Spine (incl. trauma)
END:VEVENT
BEGIN:VEVENT
DTSTART;VALUE=DATE:20251211
DTEND;VALUE=DATE:20251214
DTSTAMP:20260423T211551
CREATED:20251113T062141Z
LAST-MODIFIED:20251113T062141Z
UID:2534-1765411200-1765670399@calendar.brewwithbones.com
SUMMARY:IOF Regional: 9th Asia-Pacific Bone Health Conference
DESCRIPTION:
URL:https://calendar.brewwithbones.com/event/iof-regional-9th-asia-pacific-bone-health-conference/
LOCATION:Tokyo\, Japan
CATEGORIES:Congress,Osteoporosis
END:VEVENT
BEGIN:VEVENT
DTSTART;VALUE=DATE:20251211
DTEND;VALUE=DATE:20251214
DTSTAMP:20260423T211551
CREATED:20251113T062254Z
LAST-MODIFIED:20251113T062254Z
UID:2537-1765411200-1765670399@calendar.brewwithbones.com
SUMMARY:XX National Congress OrtoMed – Italian Society of Orthopedics\, Medicine and Rare Diseases of the Skeleton
DESCRIPTION:
URL:https://calendar.brewwithbones.com/event/xx-national-congress-ortomed-italian-society-of-orthopedics-medicine-and-rare-diseases-of-the-skeleton/
LOCATION:Florence\, Italy
CATEGORIES:Congress,General Orthopaedics,Musculoskeletal Disorders,Musculoskeletal Pathology
END:VEVENT
BEGIN:VEVENT
DTSTART;VALUE=DATE:20251215
DTEND;VALUE=DATE:20251221
DTSTAMP:20260423T211551
CREATED:20251113T062544Z
LAST-MODIFIED:20251113T062544Z
UID:2546-1765756800-1766275199@calendar.brewwithbones.com
SUMMARY:70th Annual National Conference of the Indian Orthopaedic Association – IOACON 2025
DESCRIPTION:
URL:https://calendar.brewwithbones.com/event/70th-annual-national-conference-of-the-indian-orthopaedic-association-ioacon-2025/
LOCATION:Guwahati\, India
CATEGORIES:Congress,General Orthopaedics,Traumatology
END:VEVENT
END:VCALENDAR