BEGIN:VCALENDAR
VERSION:2.0
PRODID:-//Brew With Bones - Calendar - ECPv6.6.4.2//NONSGML v1.0//EN
CALSCALE:GREGORIAN
METHOD:PUBLISH
X-WR-CALNAME:Brew With Bones - Calendar
X-ORIGINAL-URL:https://calendar.brewwithbones.com
X-WR-CALDESC:Events for Brew With Bones - Calendar
REFRESH-INTERVAL;VALUE=DURATION:PT1H
X-Robots-Tag:noindex
X-PUBLISHED-TTL:PT1H
BEGIN:VTIMEZONE
TZID:UTC
BEGIN:STANDARD
TZOFFSETFROM:+0000
TZOFFSETTO:+0000
TZNAME:UTC
DTSTART:20260101T000000
END:STANDARD
END:VTIMEZONE
BEGIN:VEVENT
DTSTART;VALUE=DATE:20260504
DTEND;VALUE=DATE:20260507
DTSTAMP:20260421T112830
CREATED:20251201T041209Z
LAST-MODIFIED:20251201T041209Z
UID:2707-1777852800-1778111999@calendar.brewwithbones.com
SUMMARY:27th EFORT Annual Congress Málaga 2026
DESCRIPTION:
URL:https://calendar.brewwithbones.com/event/27th-efort-annual-congress-malaga-2026/
LOCATION:Málaga\, Spain
CATEGORIES:Congress,EFORT Approved Event,EFORT Congress,EFORT EOTEP Event,EFORT EOTEP General Traumatology,EOTEP Event,General Orthopaedics,Traumatology
END:VEVENT
BEGIN:VEVENT
DTSTART;VALUE=DATE:20260506
DTEND;VALUE=DATE:20260509
DTSTAMP:20260421T112830
CREATED:20251201T041336Z
LAST-MODIFIED:20251201T041336Z
UID:2710-1778025600-1778284799@calendar.brewwithbones.com
SUMMARY:36th Conference of the European Wound Management Association EWMA 2026
DESCRIPTION:
URL:https://calendar.brewwithbones.com/event/36th-conference-of-the-european-wound-management-association-ewma-2026/
LOCATION:Bremen\, Germany
CATEGORIES:Congress,Pain Management,Patient Care,Wound Management
END:VEVENT
BEGIN:VEVENT
DTSTART;VALUE=DATE:20260506
DTEND;VALUE=DATE:20260509
DTSTAMP:20260421T112830
CREATED:20251201T041422Z
LAST-MODIFIED:20251201T041422Z
UID:2713-1778025600-1778284799@calendar.brewwithbones.com
SUMMARY:Pediatric Orthopaedic Society of North America (POSNA) 2026 Annual Meeting
DESCRIPTION:
URL:https://calendar.brewwithbones.com/event/pediatric-orthopaedic-society-of-north-america-posna-2026-annual-meeting/
LOCATION:Orlando\, United States
CATEGORIES:Congress,Paediatric Orthopaedics,Paediatric Trauma
END:VEVENT
BEGIN:VEVENT
DTSTART;VALUE=DATE:20260519
DTEND;VALUE=DATE:20260523
DTSTAMP:20260421T112830
CREATED:20251201T041634Z
LAST-MODIFIED:20251201T041634Z
UID:2715-1779148800-1779494399@calendar.brewwithbones.com
SUMMARY:OTWorld 2026
DESCRIPTION:
URL:https://calendar.brewwithbones.com/event/otworld-2026/
LOCATION:Leipzg\, Germany
CATEGORIES:Congress,General Orthopaedics,Traumatology
END:VEVENT
BEGIN:VEVENT
DTSTART;VALUE=DATE:20260520
DTEND;VALUE=DATE:20260523
DTSTAMP:20260421T112830
CREATED:20251201T041745Z
LAST-MODIFIED:20251201T041745Z
UID:2718-1779235200-1779494399@calendar.brewwithbones.com
SUMMARY:22nd ESSKA Biennial Congres Prague 2026
DESCRIPTION:
URL:https://calendar.brewwithbones.com/event/22nd-esska-biennial-congres-prague-2026/
LOCATION:Prague\, Czech Republic
CATEGORIES:Arthroscopy,Congress,Knee & Lower Leg,Knee & Lower Leg Trauma,Sports Trauma & Orthopaedics
END:VEVENT
BEGIN:VEVENT
DTSTART;VALUE=DATE:20260521
DTEND;VALUE=DATE:20260525
DTSTAMP:20260421T112830
CREATED:20251201T042137Z
LAST-MODIFIED:20251201T042137Z
UID:2723-1779321600-1779667199@calendar.brewwithbones.com
SUMMARY:The 99th Annual Meeting of the Japanese Orthopaedic Association
DESCRIPTION:
URL:https://calendar.brewwithbones.com/event/the-99th-annual-meeting-of-the-japanese-orthopaedic-association/
LOCATION:Kobe\, Japan
CATEGORIES:Congress,General Orthopaedics,Traumatology
END:VEVENT
BEGIN:VEVENT
DTSTART;VALUE=DATE:20260527
DTEND;VALUE=DATE:20260530
DTSTAMP:20260421T112830
CREATED:20251201T042343Z
LAST-MODIFIED:20251201T042343Z
UID:2729-1779840000-1780099199@calendar.brewwithbones.com
SUMMARY:41st Annual Meeting of Cervical Spine Research Society Europe 2026
DESCRIPTION:
URL:https://calendar.brewwithbones.com/event/41st-annual-meeting-of-cervical-spine-research-society-europe-2026/
CATEGORIES:Congress,Spine (incl. trauma)
END:VEVENT
BEGIN:VEVENT
DTSTART;VALUE=DATE:20260527
DTEND;VALUE=DATE:20260531
DTSTAMP:20260421T112830
CREATED:20251201T042248Z
LAST-MODIFIED:20251201T042248Z
UID:2726-1779840000-1780185599@calendar.brewwithbones.com
SUMMARY:1st UEMS Congress • Learning • Networking • Impacting
DESCRIPTION:
URL:https://calendar.brewwithbones.com/event/1st-uems-congress-learning-networking-impacting/
LOCATION:Leuven\, Belgium
CATEGORIES:Compliancy,Congress
END:VEVENT
END:VCALENDAR