BEGIN:VCALENDAR
VERSION:2.0
PRODID:-//Brew With Bones - Calendar - ECPv6.6.4.2//NONSGML v1.0//EN
CALSCALE:GREGORIAN
METHOD:PUBLISH
X-ORIGINAL-URL:https://calendar.brewwithbones.com
X-WR-CALDESC:Events for Brew With Bones - Calendar
REFRESH-INTERVAL;VALUE=DURATION:PT1H
X-Robots-Tag:noindex
X-PUBLISHED-TTL:PT1H
BEGIN:VTIMEZONE
TZID:UTC
BEGIN:STANDARD
TZOFFSETFROM:+0000
TZOFFSETTO:+0000
TZNAME:UTC
DTSTART:20270101T000000
END:STANDARD
END:VTIMEZONE
BEGIN:VEVENT
DTSTART;VALUE=DATE:20271108
DTEND;VALUE=DATE:20271111
DTSTAMP:20260422T004118
CREATED:20260330T124608Z
LAST-MODIFIED:20260330T124608Z
UID:3027-1825632000-1825891199@calendar.brewwithbones.com
SUMMARY:101st SOFCOT Congrès 2027
DESCRIPTION:
URL:https://calendar.brewwithbones.com/event/101st-sofcot-congres-2027/
LOCATION:Paris\, France
CATEGORIES:Congress,General Orthopaedics,Traumatology
END:VEVENT
BEGIN:VEVENT
DTSTART;VALUE=DATE:20280518
DTEND;VALUE=DATE:20280521
DTSTAMP:20260422T004118
CREATED:20260330T124654Z
LAST-MODIFIED:20260330T124654Z
UID:3029-1842220800-1842479999@calendar.brewwithbones.com
SUMMARY:Arthroscopy Association of North America (AANA) 2028 Annual Meeting
DESCRIPTION:
URL:https://calendar.brewwithbones.com/event/arthroscopy-association-of-north-america-aana-2028-annual-meeting/
LOCATION:Nashville\, United States
CATEGORIES:Arthroscopy,Congress
END:VEVENT
BEGIN:VEVENT
DTSTART;VALUE=DATE:20280518
DTEND;VALUE=DATE:20280522
DTSTAMP:20260422T004118
CREATED:20260330T124758Z
LAST-MODIFIED:20260330T124758Z
UID:3031-1842220800-1842566399@calendar.brewwithbones.com
SUMMARY:The 101st Annual Meeting of the Japanese Orthopaedic Association
DESCRIPTION:
URL:https://calendar.brewwithbones.com/event/the-101st-annual-meeting-of-the-japanese-orthopaedic-association/
LOCATION:Fukuoka\, Japan\, Japan
CATEGORIES:Congress,General Orthopaedics,Traumatology
END:VEVENT
BEGIN:VEVENT
DTSTART;VALUE=DATE:20280628
DTEND;VALUE=DATE:20280702
DTSTAMP:20260422T004118
CREATED:20260330T125030Z
LAST-MODIFIED:20260330T125030Z
UID:3036-1845763200-1846108799@calendar.brewwithbones.com
SUMMARY:XXXIII. FESSH Congress Strasburg 2028
DESCRIPTION:
URL:https://calendar.brewwithbones.com/event/xxxiii-fessh-congress-strasburg-2028/
LOCATION:Strasbourg\, France\, France
CATEGORIES:Congress,Wrist & Hand,Wrist & Hand Trauma
END:VEVENT
BEGIN:VEVENT
DTSTART;VALUE=DATE:20280913
DTEND;VALUE=DATE:20280916
DTSTAMP:20260422T004118
CREATED:20260330T125152Z
LAST-MODIFIED:20260330T125152Z
UID:3038-1852416000-1852675199@calendar.brewwithbones.com
SUMMARY:XLVI Scientific Congress of the Polish Society of Radiology (PTOiTr) – 100th Anniversary of the Polish Society of Radiology (PTOiTr)
DESCRIPTION:
URL:https://calendar.brewwithbones.com/event/xlvi-scientific-congress-of-the-polish-society-of-radiology-ptoitr-100th-anniversary-of-the-polish-society-of-radiology-ptoitr/
LOCATION:Łódź\, Poland\, Poland
CATEGORIES:Congress,Radiology
END:VEVENT
BEGIN:VEVENT
DTSTART;VALUE=DATE:20280919
DTEND;VALUE=DATE:20280922
DTSTAMP:20260422T004118
CREATED:20260329T193552Z
LAST-MODIFIED:20260329T193552Z
UID:2894-1852934400-1853193599@calendar.brewwithbones.com
SUMMARY:BOA 2028
DESCRIPTION:
URL:https://calendar.brewwithbones.com/event/boa-2028/
LOCATION:Aberdeen\, United Kingdom\, United Kingdom
CATEGORIES:Congress,General Orthopaedics,Traumatology
END:VEVENT
BEGIN:VEVENT
DTSTART;VALUE=DATE:20280919
DTEND;VALUE=DATE:20280922
DTSTAMP:20260422T004118
CREATED:20260330T125255Z
LAST-MODIFIED:20260330T125255Z
UID:3042-1852934400-1853193599@calendar.brewwithbones.com
SUMMARY:BOA 2028
DESCRIPTION:
URL:https://calendar.brewwithbones.com/event/boa-2028-2/
LOCATION:Aberdeen\, United Kingdom\, United Kingdom
CATEGORIES:Congress,General Orthopaedics,Traumatology
END:VEVENT
BEGIN:VEVENT
DTSTART;VALUE=DATE:20281005
DTEND;VALUE=DATE:20281008
DTSTAMP:20260422T004118
CREATED:20260329T193736Z
LAST-MODIFIED:20260329T193736Z
UID:2897-1854316800-1854575999@calendar.brewwithbones.com
SUMMARY:ISHA Annual Scientific Meeting 2028
DESCRIPTION:
URL:https://calendar.brewwithbones.com/event/isha-annual-scientific-meeting-2028/
LOCATION:Buenos Aires\, Argentina\, Argentina
CATEGORIES:Congress,Hip & Femur,Pelvic & Hip Trauma,Pelvis
END:VEVENT
BEGIN:VEVENT
DTSTART;VALUE=DATE:20281005
DTEND;VALUE=DATE:20281008
DTSTAMP:20260422T004118
CREATED:20260329T193844Z
LAST-MODIFIED:20260329T193844Z
UID:2900-1854316800-1854575999@calendar.brewwithbones.com
SUMMARY:ISHA Annual Scientific Meeting 2028
DESCRIPTION:
URL:https://calendar.brewwithbones.com/event/isha-annual-scientific-meeting-2028-2/
LOCATION:Buenos Aires\, Argentina\, Argentina
CATEGORIES:Congress,Hip & Femur,Pelvic & Hip Trauma,Pelvis
END:VEVENT
BEGIN:VEVENT
DTSTART;VALUE=DATE:20281005
DTEND;VALUE=DATE:20281008
DTSTAMP:20260422T004118
CREATED:20260330T125400Z
LAST-MODIFIED:20260330T125400Z
UID:3044-1854316800-1854575999@calendar.brewwithbones.com
SUMMARY:ISHA Annual Scientific Meeting 2028
DESCRIPTION:
URL:https://calendar.brewwithbones.com/event/isha-annual-scientific-meeting-2028-3/
LOCATION:Buenos Aires\, Argentina\, Argentina
CATEGORIES:Congress,Hip & Femur,Pelvic & Hip Trauma,Pelvis
END:VEVENT
BEGIN:VEVENT
DTSTART;VALUE=DATE:20281010
DTEND;VALUE=DATE:20281015
DTSTAMP:20260422T004118
CREATED:20260329T194000Z
LAST-MODIFIED:20260329T194000Z
UID:2902-1854748800-1855180799@calendar.brewwithbones.com
SUMMARY:Orthopaedic Trauma Association (OTA) 2028 Annual Meeting
DESCRIPTION:
URL:https://calendar.brewwithbones.com/event/orthopaedic-trauma-association-ota-2028-annual-meeting/
LOCATION:Charlotte\, United States\, United States
CATEGORIES:Congress,General Orthopaedics,Traumatology
END:VEVENT
BEGIN:VEVENT
DTSTART;VALUE=DATE:20281018
DTEND;VALUE=DATE:20281022
DTSTAMP:20260422T004118
CREATED:20260329T194114Z
LAST-MODIFIED:20260329T194114Z
UID:2905-1855440000-1855785599@calendar.brewwithbones.com
SUMMARY:American Orthopaedic Foot and Ankle Society (AOFAS) 2028 Annual Meeting
DESCRIPTION:
URL:https://calendar.brewwithbones.com/event/american-orthopaedic-foot-and-ankle-society-aofas-2028-annual-meeting/
LOCATION:Boston\, United States\, United States
CATEGORIES:Congress,Foot & Ankle,Foot & Ankle Trauma
END:VEVENT
BEGIN:VEVENT
DTSTART;VALUE=DATE:20290503
DTEND;VALUE=DATE:20290506
DTSTAMP:20260422T004118
CREATED:20260329T194220Z
LAST-MODIFIED:20260329T194220Z
UID:2908-1872460800-1872719999@calendar.brewwithbones.com
SUMMARY:Arthroscopy Association of North America (AANA) 2029 Annual Meeting
DESCRIPTION:
URL:https://calendar.brewwithbones.com/event/arthroscopy-association-of-north-america-aana-2029-annual-meeting/
LOCATION:Austin\, United States\, United States
CATEGORIES:Arthroscopy,Congress
END:VEVENT
END:VCALENDAR