BEGIN:VCALENDAR
VERSION:2.0
PRODID:-//Brew With Bones - Calendar - ECPv6.6.4.2//NONSGML v1.0//EN
CALSCALE:GREGORIAN
METHOD:PUBLISH
X-ORIGINAL-URL:https://calendar.brewwithbones.com
X-WR-CALDESC:Events for Brew With Bones - Calendar
REFRESH-INTERVAL;VALUE=DURATION:PT1H
X-Robots-Tag:noindex
X-PUBLISHED-TTL:PT1H
BEGIN:VTIMEZONE
TZID:UTC
BEGIN:STANDARD
TZOFFSETFROM:+0000
TZOFFSETTO:+0000
TZNAME:UTC
DTSTART:20250101T000000
END:STANDARD
END:VTIMEZONE
BEGIN:VEVENT
DTSTART;VALUE=DATE:20251126
DTEND;VALUE=DATE:20251129
DTSTAMP:20260423T025408
CREATED:20251113T051643Z
LAST-MODIFIED:20251113T051643Z
UID:2475-1764115200-1764374399@calendar.brewwithbones.com
SUMMARY:9th EPOS BAT INSTRUCTIONAL COURSE TRILOGY (Part 1)
DESCRIPTION:
URL:https://calendar.brewwithbones.com/event/9th-epos-bat-instructional-course-trilogy-part-1/
LOCATION:Vienna\, Austria
CATEGORIES:Course,Paediatric Orthopaedics,Paediatric Spine
END:VEVENT
BEGIN:VEVENT
DTSTART;VALUE=DATE:20251126
DTEND;VALUE=DATE:20251129
DTSTAMP:20260423T025408
CREATED:20251113T051738Z
LAST-MODIFIED:20251113T051738Z
UID:2478-1764115200-1764374399@calendar.brewwithbones.com
SUMMARY:Barcelona International Arthro Shoulder Surgeries
DESCRIPTION:
URL:https://calendar.brewwithbones.com/event/barcelona-international-arthro-shoulder-surgeries/
LOCATION:L’Hospitalet de Llobregat | Barcelona\, Spain
CATEGORIES:Course,Shoulder & Elbow,Shoulder & Elbow Trauma
END:VEVENT
BEGIN:VEVENT
DTSTART;VALUE=DATE:20251127
DTEND;VALUE=DATE:20251129
DTSTAMP:20260423T025408
CREATED:20251113T051902Z
LAST-MODIFIED:20251113T051902Z
UID:2481-1764201600-1764374399@calendar.brewwithbones.com
SUMMARY:AE Master Course Knee – Three-Country Course
DESCRIPTION:
URL:https://calendar.brewwithbones.com/event/ae-master-course-knee-three-country-course/
LOCATION:St. Gallen\, Switzerland
CATEGORIES:Arthroplasty,Course,Knee & Lower Leg,Knee & Lower Leg Trauma
END:VEVENT
END:VCALENDAR