BEGIN:VCALENDAR
VERSION:2.0
PRODID:-//Brew With Bones - Calendar - ECPv6.6.4.2//NONSGML v1.0//EN
CALSCALE:GREGORIAN
METHOD:PUBLISH
X-ORIGINAL-URL:https://calendar.brewwithbones.com
X-WR-CALDESC:Events for Brew With Bones - Calendar
REFRESH-INTERVAL;VALUE=DURATION:PT1H
X-Robots-Tag:noindex
X-PUBLISHED-TTL:PT1H
BEGIN:VTIMEZONE
TZID:UTC
BEGIN:STANDARD
TZOFFSETFROM:+0000
TZOFFSETTO:+0000
TZNAME:UTC
DTSTART:20260101T000000
END:STANDARD
END:VTIMEZONE
BEGIN:VEVENT
DTSTART;VALUE=DATE:20261130
DTEND;VALUE=DATE:20261203
DTSTAMP:20260421T163938
CREATED:20260329T193023Z
LAST-MODIFIED:20260329T193023Z
UID:2890-1795996800-1796255999@calendar.brewwithbones.com
SUMMARY:AO Spine Advanced Course-Cervical Spine: Dealing with complex\, Revision and Deformity Problems (With Human Anatomical Specimens)
DESCRIPTION:
URL:https://calendar.brewwithbones.com/event/ao-spine-advanced-course-cervical-spine-dealing-with-complex-revision-and-deformity-problems-with-human-anatomical-specimens/
LOCATION:Davos\, Switzerland
CATEGORIES:Course,Spine (incl. trauma)
END:VEVENT
BEGIN:VEVENT
DTSTART;VALUE=DATE:20261130
DTEND;VALUE=DATE:20261203
DTSTAMP:20260421T163938
CREATED:20260329T193318Z
LAST-MODIFIED:20260329T193318Z
UID:2892-1795996800-1796255999@calendar.brewwithbones.com
SUMMARY:AO Spine Course-Fundamental techniques in Spine Surgery
DESCRIPTION:
URL:https://calendar.brewwithbones.com/event/ao-spine-course-fundamental-techniques-in-spine-surgery/
LOCATION:Davos\, Switzerland
CATEGORIES:Course,Spine (incl. trauma)
END:VEVENT
BEGIN:VEVENT
DTSTART;VALUE=DATE:20261201
DTEND;VALUE=DATE:20261204
DTSTAMP:20260421T163938
CREATED:20260330T085923Z
LAST-MODIFIED:20260330T085923Z
UID:2911-1796083200-1796342399@calendar.brewwithbones.com
SUMMARY:AO Recon Course-Complex and Revision Total Knee Arthroplasty (With Human Anatomical Specimens)
DESCRIPTION:
URL:https://calendar.brewwithbones.com/event/ao-recon-course-complex-and-revision-total-knee-arthroplasty-with-human-anatomical-specimens/
LOCATION:Davos\, Switzerland
CATEGORIES:Arthroplasty,Course,Knee & Lower Leg,Knee & Lower Leg Trauma
END:VEVENT
BEGIN:VEVENT
DTSTART;VALUE=DATE:20261201
DTEND;VALUE=DATE:20261204
DTSTAMP:20260421T163938
CREATED:20260330T090028Z
LAST-MODIFIED:20260330T090028Z
UID:2913-1796083200-1796342399@calendar.brewwithbones.com
SUMMARY:AO Recon Course-Complex Total Hip Arthroplasty (With Human Anatomical Specimens)
DESCRIPTION:
URL:https://calendar.brewwithbones.com/event/ao-recon-course-complex-total-hip-arthroplasty-with-human-anatomical-specimens/
LOCATION:Davos\, Switzerland
CATEGORIES:Arthroplasty,Course,Hip & Femur,Pelvic & Hip Trauma,Pelvis
END:VEVENT
BEGIN:VEVENT
DTSTART;VALUE=DATE:20261204
DTEND;VALUE=DATE:20261206
DTSTAMP:20260421T163938
CREATED:20260330T090403Z
LAST-MODIFIED:20260330T090403Z
UID:2919-1796342400-1796515199@calendar.brewwithbones.com
SUMMARY:11th Course on Shoulder Arthroplasty on Cadavers
DESCRIPTION:
URL:https://calendar.brewwithbones.com/event/11th-course-on-shoulder-arthroplasty-on-cadavers/
LOCATION:Istanbul\, Turkey
CATEGORIES:Arthroplasty,Course,Shoulder & Elbow,Shoulder & Elbow Trauma
END:VEVENT
BEGIN:VEVENT
DTSTART;VALUE=DATE:20261206
DTEND;VALUE=DATE:20261210
DTSTAMP:20260421T163938
CREATED:20260330T091133Z
LAST-MODIFIED:20260330T091133Z
UID:2934-1796515200-1796860799@calendar.brewwithbones.com
SUMMARY:AO Trauma German Masters Course (With Human Anatomical Specimens)
DESCRIPTION:
URL:https://calendar.brewwithbones.com/event/ao-trauma-german-masters-course-with-human-anatomical-specimens/
LOCATION:Davos\, Switzerland
CATEGORIES:Course,Traumatology
END:VEVENT
BEGIN:VEVENT
DTSTART;VALUE=DATE:20261206
DTEND;VALUE=DATE:20261211
DTSTAMP:20260421T163938
CREATED:20260330T090622Z
LAST-MODIFIED:20260330T090622Z
UID:2924-1796515200-1796947199@calendar.brewwithbones.com
SUMMARY:AO Trauma Course-Advanced Principles of Fracture Management
DESCRIPTION:
URL:https://calendar.brewwithbones.com/event/ao-trauma-course-advanced-principles-of-fracture-management/
LOCATION:Davos\, Switzerland
CATEGORIES:Course,Traumatology
END:VEVENT
BEGIN:VEVENT
DTSTART;VALUE=DATE:20261206
DTEND;VALUE=DATE:20261211
DTSTAMP:20260421T163938
CREATED:20260330T090942Z
LAST-MODIFIED:20260330T090942Z
UID:2930-1796515200-1796947199@calendar.brewwithbones.com
SUMMARY:AO Trauma Course-Managing Paediatric Fractures
DESCRIPTION:
URL:https://calendar.brewwithbones.com/event/ao-trauma-course-managing-paediatric-fractures/
LOCATION:Davos\, Switzerland
CATEGORIES:Course,Paediatric Trauma
END:VEVENT
BEGIN:VEVENT
DTSTART;VALUE=DATE:20261206
DTEND;VALUE=DATE:20261212
DTSTAMP:20260421T163938
CREATED:20260330T090744Z
LAST-MODIFIED:20260330T090744Z
UID:2926-1796515200-1797033599@calendar.brewwithbones.com
SUMMARY:AO Trauma Course-Advanced Principles of Fracture Management Swiss Surgeons
DESCRIPTION:
URL:https://calendar.brewwithbones.com/event/ao-trauma-course-advanced-principles-of-fracture-management-swiss-surgeons/
LOCATION:Davos\, Switzerland
CATEGORIES:Course,Traumatology
END:VEVENT
BEGIN:VEVENT
DTSTART;VALUE=DATE:20261206
DTEND;VALUE=DATE:20261212
DTSTAMP:20260421T163938
CREATED:20260330T090842Z
LAST-MODIFIED:20260330T090842Z
UID:2928-1796515200-1797033599@calendar.brewwithbones.com
SUMMARY:AO Trauma Course-Basic Principles of Fracture Management
DESCRIPTION:
URL:https://calendar.brewwithbones.com/event/ao-trauma-course-basic-principles-of-fracture-management/
LOCATION:Davos\, Switzerland
CATEGORIES:Course,Traumatology
END:VEVENT
BEGIN:VEVENT
DTSTART;VALUE=DATE:20261206
DTEND;VALUE=DATE:20261212
DTSTAMP:20260421T163938
CREATED:20260330T091045Z
LAST-MODIFIED:20260330T091045Z
UID:2932-1796515200-1797033599@calendar.brewwithbones.com
SUMMARY:AO Trauma Course-Pelvic and Acetabular Fracture Management (With Human Anatomical Specimens)
DESCRIPTION:
URL:https://calendar.brewwithbones.com/event/ao-trauma-course-pelvic-and-acetabular-fracture-management-with-human-anatomical-specimens/
LOCATION:Davos\, Switzerland
CATEGORIES:Course,Pelvic & Hip Trauma
END:VEVENT
BEGIN:VEVENT
DTSTART;VALUE=DATE:20261206
DTEND;VALUE=DATE:20261212
DTSTAMP:20260421T163938
CREATED:20260330T091219Z
LAST-MODIFIED:20260330T091219Z
UID:2936-1796515200-1797033599@calendar.brewwithbones.com
SUMMARY:AO Trauma Masterclass-Experts’ Strategies for Complex Cases
DESCRIPTION:
URL:https://calendar.brewwithbones.com/event/ao-trauma-masterclass-experts-strategies-for-complex-cases-2/
LOCATION:Davos\, Switzerland
CATEGORIES:Course,Traumatology
END:VEVENT
BEGIN:VEVENT
DTSTART;VALUE=DATE:20261206
DTEND;VALUE=DATE:20261212
DTSTAMP:20260421T163938
CREATED:20260330T091317Z
LAST-MODIFIED:20260330T091317Z
UID:2938-1796515200-1797033599@calendar.brewwithbones.com
SUMMARY:AO Trauma Masters Course-Current Concepts-Lower Extremity I (Femur) (With Human Anatomical Specimens)
DESCRIPTION:
URL:https://calendar.brewwithbones.com/event/ao-trauma-masters-course-current-concepts-lower-extremity-i-femur-with-human-anatomical-specimens/
LOCATION:Davos\, Switzerland
CATEGORIES:Course,Pelvic & Hip Trauma
END:VEVENT
BEGIN:VEVENT
DTSTART;VALUE=DATE:20261206
DTEND;VALUE=DATE:20261212
DTSTAMP:20260421T163938
CREATED:20260330T091417Z
LAST-MODIFIED:20260330T091417Z
UID:2940-1796515200-1797033599@calendar.brewwithbones.com
SUMMARY:AO Trauma Masters Course-Current Concepts-Lower Extremity II (Pilon) (With Human Anatomical Specimens)
DESCRIPTION:
URL:https://calendar.brewwithbones.com/event/ao-trauma-masters-course-current-concepts-lower-extremity-ii-pilon-with-human-anatomical-specimens/
LOCATION:Davos\, Switzerland
CATEGORIES:Course,Foot & Ankle Trauma
END:VEVENT
BEGIN:VEVENT
DTSTART;VALUE=DATE:20261206
DTEND;VALUE=DATE:20261212
DTSTAMP:20260421T163938
CREATED:20260330T091622Z
LAST-MODIFIED:20260330T091622Z
UID:2944-1796515200-1797033599@calendar.brewwithbones.com
SUMMARY:AO Trauma Masters Course-Current Concepts-Upper Extremity II (Elbow to Wrist) (With Human Anatomical Specimens)
DESCRIPTION:
URL:https://calendar.brewwithbones.com/event/ao-trauma-masters-course-current-concepts-upper-extremity-ii-elbow-to-wrist-with-human-anatomical-specimens/
LOCATION:Davos\, Switzerland
CATEGORIES:Course,Elbow & Forearm Trauma,Wrist & Hand Trauma
END:VEVENT
BEGIN:VEVENT
DTSTART;VALUE=DATE:20261209
DTEND;VALUE=DATE:20261212
DTSTAMP:20260421T163938
CREATED:20260330T091745Z
LAST-MODIFIED:20260330T091745Z
UID:2946-1796774400-1797033599@calendar.brewwithbones.com
SUMMARY:BSCOS Current Concepts 2026
DESCRIPTION:
URL:https://calendar.brewwithbones.com/event/bscos-current-concepts-2026/
LOCATION:Oxford\, United States\, United States
CATEGORIES:Course,Paediatric Orthopaedics
END:VEVENT
BEGIN:VEVENT
DTSTART;VALUE=DATE:20261210
DTEND;VALUE=DATE:20261213
DTSTAMP:20260421T163938
CREATED:20260330T091837Z
LAST-MODIFIED:20260330T091837Z
UID:2949-1796860800-1797119999@calendar.brewwithbones.com
SUMMARY:15th Practical Training Meeting on Surgical Treatment of Pelvic-Acetabulum Fractures
DESCRIPTION:
URL:https://calendar.brewwithbones.com/event/15th-practical-training-meeting-on-surgical-treatment-of-pelvic-acetabulum-fractures/
LOCATION:Antalya\, Turkey
CATEGORIES:Course,Pelvic & Hip Trauma
END:VEVENT
BEGIN:VEVENT
DTSTART;VALUE=DATE:20261211
DTEND;VALUE=DATE:20261214
DTSTAMP:20260421T163938
CREATED:20260330T092231Z
LAST-MODIFIED:20260330T092231Z
UID:2956-1796947200-1797206399@calendar.brewwithbones.com
SUMMARY:Mastercourse: Current concepts in Advanced Arthroplasty Surgery
DESCRIPTION:
URL:https://calendar.brewwithbones.com/event/mastercourse-current-concepts-in-advanced-arthroplasty-surgery/
LOCATION:Thessaloniki\, Greece
CATEGORIES:Arthroplasty,Course
END:VEVENT
BEGIN:VEVENT
DTSTART;VALUE=DATE:20261219
DTEND;VALUE=DATE:20261221
DTSTAMP:20260421T163938
CREATED:20260330T092359Z
LAST-MODIFIED:20260330T092359Z
UID:2958-1797638400-1797811199@calendar.brewwithbones.com
SUMMARY:CoD Trauma Course
DESCRIPTION:
URL:https://calendar.brewwithbones.com/event/cod-trauma-course/
LOCATION:Istanbul\, Turkey
CATEGORIES:Course,Paediatric Trauma
END:VEVENT
BEGIN:VEVENT
DTSTART;VALUE=DATE:20261231
DTEND;VALUE=DATE:20270101
DTSTAMP:20260421T163938
CREATED:20260330T092735Z
LAST-MODIFIED:20260330T092735Z
UID:2966-1798675200-1798761599@calendar.brewwithbones.com
SUMMARY:DGORh Certificate Rheumatic Surgery – Module 3 – Hand – Part 1 – Biomechanics
DESCRIPTION:
URL:https://calendar.brewwithbones.com/event/dgorh-certificate-rheumatic-surgery-module-3-hand-part-1-biomechanics/
LOCATION:Berlin\, Germany
CATEGORIES:Biomechanics,Course,Rheumatology
END:VEVENT
BEGIN:VEVENT
DTSTART;VALUE=DATE:20261231
DTEND;VALUE=DATE:20270101
DTSTAMP:20260421T163938
CREATED:20260330T092915Z
LAST-MODIFIED:20260330T092915Z
UID:2970-1798675200-1798761599@calendar.brewwithbones.com
SUMMARY:DGORh Certificate Rheumatic Surgery – Module 5 – Foot
DESCRIPTION:
URL:https://calendar.brewwithbones.com/event/dgorh-certificate-rheumatic-surgery-module-5-foot/
LOCATION:Berlin\, Germany
CATEGORIES:Course,Foot & Ankle,Foot & Ankle Trauma,Rheumatology
END:VEVENT
BEGIN:VEVENT
DTSTART;VALUE=DATE:20261231
DTEND;VALUE=DATE:20270101
DTSTAMP:20260421T163938
CREATED:20260330T093012Z
LAST-MODIFIED:20260330T093012Z
UID:2972-1798675200-1798761599@calendar.brewwithbones.com
SUMMARY:DGORh Certificate Rheumatism Surgery – Module 2 – Shoulder and Elbow
DESCRIPTION:
URL:https://calendar.brewwithbones.com/event/dgorh-certificate-rheumatism-surgery-module-2-shoulder-and-elbow/
LOCATION:Berlin\, Germany
CATEGORIES:Course,Rheumatology,Shoulder & Elbow,Shoulder & Elbow Trauma
END:VEVENT
BEGIN:VEVENT
DTSTART;VALUE=DATE:20270117
DTEND;VALUE=DATE:20270123
DTSTAMP:20260421T163938
CREATED:20260330T122446Z
LAST-MODIFIED:20260330T122446Z
UID:2980-1800144000-1800662399@calendar.brewwithbones.com
SUMMARY:Intensive Course in Basic Science in Orthopaedics
DESCRIPTION:
URL:https://calendar.brewwithbones.com/event/intensive-course-in-basic-science-in-orthopaedics/
LOCATION:Oswestry\, United Kingdom\, United Kingdom
CATEGORIES:Basic Science,Course
END:VEVENT
BEGIN:VEVENT
DTSTART;VALUE=DATE:20270121
DTEND;VALUE=DATE:20270124
DTSTAMP:20260421T163938
CREATED:20260330T122553Z
LAST-MODIFIED:20260330T122553Z
UID:2982-1800489600-1800748799@calendar.brewwithbones.com
SUMMARY:10th Surgical Skills Course & Wet-Lab Doha 2027
DESCRIPTION:
URL:https://calendar.brewwithbones.com/event/10th-surgical-skills-course-wet-lab-doha-2027/
LOCATION:Doha\, Qatar\, Qatar
CATEGORIES:Bone & Joint,Cartilage,Course
END:VEVENT
BEGIN:VEVENT
DTSTART;VALUE=DATE:20270130
DTEND;VALUE=DATE:20270201
DTSTAMP:20260421T163938
CREATED:20260330T122644Z
LAST-MODIFIED:20260330T122644Z
UID:2985-1801267200-1801439999@calendar.brewwithbones.com
SUMMARY:30th Basic Science & Research School
DESCRIPTION:
URL:https://calendar.brewwithbones.com/event/30th-basic-science-research-school/
LOCATION:Ankara\, Turkey\, Turkey
CATEGORIES:Basic Science,Course,Research
END:VEVENT
BEGIN:VEVENT
DTSTART;VALUE=DATE:20270219
DTEND;VALUE=DATE:20270221
DTSTAMP:20260421T163938
CREATED:20260330T122846Z
LAST-MODIFIED:20260330T122846Z
UID:2989-1802995200-1803167999@calendar.brewwithbones.com
SUMMARY:TEÜECD Prof. Dr. Rıdvan Ege 22nd Advanced Hand Surgery Course
DESCRIPTION:
URL:https://calendar.brewwithbones.com/event/teuecd-prof-dr-ridvan-ege-22nd-advanced-hand-surgery-course/
LOCATION:Izmir\, Turkey
CATEGORIES:Course,Wrist & Hand,Wrist & Hand Trauma
END:VEVENT
BEGIN:VEVENT
DTSTART;VALUE=DATE:20270310
DTEND;VALUE=DATE:20270313
DTSTAMP:20260421T163938
CREATED:20260330T122944Z
LAST-MODIFIED:20260330T122944Z
UID:2991-1804636800-1804895999@calendar.brewwithbones.com
SUMMARY:10th EPOS BAT Instructional Course Trilogy (Part 1)
DESCRIPTION:
URL:https://calendar.brewwithbones.com/event/10th-epos-bat-instructional-course-trilogy-part-1/
LOCATION:Vienna\, Austria
CATEGORIES:Course,Paediatric Orthopaedics,Paediatric Spine,Paediatric Trauma,Paediatrics
END:VEVENT
BEGIN:VEVENT
DTSTART;VALUE=DATE:20270410
DTEND;VALUE=DATE:20270412
DTSTAMP:20260421T163938
CREATED:20260330T123429Z
LAST-MODIFIED:20260330T123429Z
UID:3002-1807315200-1807487999@calendar.brewwithbones.com
SUMMARY:TOTBİD Eastern Anatolia Regional Meeting and Regional Family Assembly – Erzincan 2027
DESCRIPTION:
URL:https://calendar.brewwithbones.com/event/totbid-eastern-anatolia-regional-meeting-and-regional-family-assembly-erzincan-2027/
LOCATION:Erzincan\, Turkey\, Turkey
CATEGORIES:Course,General Orthopaedics,Traumatology
END:VEVENT
BEGIN:VEVENT
DTSTART;VALUE=DATE:20270625
DTEND;VALUE=DATE:20270627
DTSTAMP:20260421T163938
CREATED:20260330T124023Z
LAST-MODIFIED:20260330T124023Z
UID:3014-1813881600-1814054399@calendar.brewwithbones.com
SUMMARY:Around the Knee 3rd Edition
DESCRIPTION:
URL:https://calendar.brewwithbones.com/event/around-the-knee-3rd-edition/
LOCATION:Gdańsk\, Poland\, Poland
CATEGORIES:Course,Knee & Lower Leg,Knee & Lower Leg Trauma
END:VEVENT
BEGIN:VEVENT
DTSTART;VALUE=DATE:20270827
DTEND;VALUE=DATE:20270829
DTSTAMP:20260421T163938
CREATED:20260330T124124Z
LAST-MODIFIED:20260330T124124Z
UID:3017-1819324800-1819497599@calendar.brewwithbones.com
SUMMARY:AO Spine NA Course – Principles and Treatment in Spinal Disorders
DESCRIPTION:
URL:https://calendar.brewwithbones.com/event/ao-spine-na-course-principles-and-treatment-in-spinal-disorders/
LOCATION:La Jolla\, United States\, United States
CATEGORIES:Course,Musculoskeletal Disorders,Spine (incl. trauma)
END:VEVENT
END:VCALENDAR