BEGIN:VCALENDAR
VERSION:2.0
PRODID:-//Brew With Bones - Calendar - ECPv6.6.4.2//NONSGML v1.0//EN
CALSCALE:GREGORIAN
METHOD:PUBLISH
X-ORIGINAL-URL:https://calendar.brewwithbones.com
X-WR-CALDESC:Events for Brew With Bones - Calendar
REFRESH-INTERVAL;VALUE=DURATION:PT1H
X-Robots-Tag:noindex
X-PUBLISHED-TTL:PT1H
BEGIN:VTIMEZONE
TZID:UTC
BEGIN:STANDARD
TZOFFSETFROM:+0000
TZOFFSETTO:+0000
TZNAME:UTC
DTSTART:20260101T000000
END:STANDARD
END:VTIMEZONE
BEGIN:VEVENT
DTSTART;VALUE=DATE:20260427
DTEND;VALUE=DATE:20260428
DTSTAMP:20260419T233509
CREATED:20251201T040810Z
LAST-MODIFIED:20251201T040810Z
UID:2705-1777248000-1777334399@calendar.brewwithbones.com
SUMMARY:EFORT Webinar | Complex Elbow Fracture Management
DESCRIPTION:
URL:https://calendar.brewwithbones.com/event/efort-webinar-complex-elbow-fracture-management/
CATEGORIES:EFORT EOTEP Shoulder & Elbow,EFORT Webinar,EOTEP Event,Shoulder & Elbow Trauma,Webinar
END:VEVENT
BEGIN:VEVENT
DTSTART;VALUE=DATE:20260928
DTEND;VALUE=DATE:20260929
DTSTAMP:20260419T233509
CREATED:20251201T053121Z
LAST-MODIFIED:20251201T053121Z
UID:2750-1790553600-1790639999@calendar.brewwithbones.com
SUMMARY:EFORT Webinar | Three-Dimensional Planning in Trauma
DESCRIPTION:
URL:https://calendar.brewwithbones.com/event/efort-webinar-three-dimensional-planning-in-trauma/
CATEGORIES:EFORT EOTEP General Traumatology,EFORT Webinar,EOTEP Event,Methodology,Quality Management,Traumatology
END:VEVENT
END:VCALENDAR