BEGIN:VCALENDAR
VERSION:2.0
PRODID:-//Brew With Bones - Calendar - ECPv6.6.4.2//NONSGML v1.0//EN
CALSCALE:GREGORIAN
METHOD:PUBLISH
X-ORIGINAL-URL:https://calendar.brewwithbones.com
X-WR-CALDESC:Events for Brew With Bones - Calendar
REFRESH-INTERVAL;VALUE=DURATION:PT1H
X-Robots-Tag:noindex
X-PUBLISHED-TTL:PT1H
BEGIN:VTIMEZONE
TZID:UTC
BEGIN:STANDARD
TZOFFSETFROM:+0000
TZOFFSETTO:+0000
TZNAME:UTC
DTSTART:20250101T000000
END:STANDARD
END:VTIMEZONE
BEGIN:VEVENT
DTSTART;VALUE=DATE:20251115
DTEND;VALUE=DATE:20251116
DTSTAMP:20260421T145625
CREATED:20251113T044821Z
LAST-MODIFIED:20251113T045927Z
UID:2442-1763164800-1763251199@calendar.brewwithbones.com
SUMMARY:Elbow Arthroscopy and Surgical Approaches Cadaver Course Izmir 2025
DESCRIPTION:
URL:https://calendar.brewwithbones.com/event/elbow-arthroscopy-and-surgical-approaches-cadaver-course-izmir-2025/
LOCATION:Izmir\, Turkey
CATEGORIES:Arthroscopy,Course,Elbow & Forearm,Elbow & Forearm Trauma
END:VEVENT
END:VCALENDAR