BEGIN:VCALENDAR
VERSION:2.0
PRODID:-//Brew With Bones - Calendar - ECPv6.6.4.2//NONSGML v1.0//EN
CALSCALE:GREGORIAN
METHOD:PUBLISH
X-WR-CALNAME:Brew With Bones - Calendar
X-ORIGINAL-URL:https://calendar.brewwithbones.com
X-WR-CALDESC:Events for Brew With Bones - Calendar
REFRESH-INTERVAL;VALUE=DURATION:PT1H
X-Robots-Tag:noindex
X-PUBLISHED-TTL:PT1H
BEGIN:VTIMEZONE
TZID:UTC
BEGIN:STANDARD
TZOFFSETFROM:+0000
TZOFFSETTO:+0000
TZNAME:UTC
DTSTART:20250101T000000
END:STANDARD
END:VTIMEZONE
BEGIN:VEVENT
DTSTART;VALUE=DATE:20260323
DTEND;VALUE=DATE:20260327
DTSTAMP:20260419T215852
CREATED:20251128T154257Z
LAST-MODIFIED:20251128T154257Z
UID:2664-1774224000-1774569599@calendar.brewwithbones.com
SUMMARY:ESPRM 2026 – 25th European Congress of Physical and Rehabilitation Medicine
DESCRIPTION:
URL:https://calendar.brewwithbones.com/event/esprm-2026-25th-european-congress-of-physical-and-rehabilitation-medicine-2/
LOCATION:Krakow\, Poland
CATEGORIES:Congress,EOTEP Event,EOTEP Featured General Traumatology,EOTEP General Education,General Orthopaedics,Patient Care,Rehabilitation
END:VEVENT
BEGIN:VEVENT
DTSTART;VALUE=DATE:20260323
DTEND;VALUE=DATE:20260327
DTSTAMP:20260419T215852
CREATED:20251113T105522Z
LAST-MODIFIED:20251113T105522Z
UID:2607-1774224000-1774569599@calendar.brewwithbones.com
SUMMARY:ESPRM 2026 – 25th European Congress of Physical and Rehabilitation Medicine
DESCRIPTION:
URL:https://calendar.brewwithbones.com/event/esprm-2026-25th-european-congress-of-physical-and-rehabilitation-medicine/
LOCATION:Krakow\, Poland
CATEGORIES:Congress,EOTEP Event,EOTEP Featured General Traumatology,EOTEP General Education,General Orthopaedics,Patient Care,Rehabilitation
END:VEVENT
BEGIN:VEVENT
DTSTART;VALUE=DATE:20260206
DTEND;VALUE=DATE:20260208
DTSTAMP:20260419T215852
CREATED:20251113T064132Z
LAST-MODIFIED:20251113T064132Z
UID:2579-1770336000-1770508799@calendar.brewwithbones.com
SUMMARY:ACT 2026 – The 1st International Conference on Integrated Approaches to Combat Trauma
DESCRIPTION:
URL:https://calendar.brewwithbones.com/event/act-2026-the-1st-international-conference-on-integrated-approaches-to-combat-trauma/
LOCATION:Budapest\, Hungary
CATEGORIES:Conference,EOTEP Event,EOTEP Featured General Traumatology,Traumatology
END:VEVENT
BEGIN:VEVENT
DTSTART;VALUE=DATE:20260108
DTEND;VALUE=DATE:20260111
DTSTAMP:20260419T215852
CREATED:20251113T062738Z
LAST-MODIFIED:20251113T062738Z
UID:2549-1767830400-1768089599@calendar.brewwithbones.com
SUMMARY:15th Pan Arab Spine Society Conference 2026
DESCRIPTION:
URL:https://calendar.brewwithbones.com/event/15th-pan-arab-spine-society-conference-2026/
LOCATION:eddah\, Saudi Arabia
CATEGORIES:Conference,EOTEP Event,EOTEP Featured Spine,Spine (incl. trauma)
END:VEVENT
BEGIN:VEVENT
DTSTART;VALUE=DATE:20251124
DTEND;VALUE=DATE:20251125
DTSTAMP:20260419T215852
CREATED:20251113T051135Z
LAST-MODIFIED:20251113T051135Z
UID:2470-1763942400-1764028799@calendar.brewwithbones.com
SUMMARY:EFORT Webinar | Cell-free products in OA: secretome\, Evs and exosomes
DESCRIPTION:
URL:https://calendar.brewwithbones.com/event/efort-webinar-cell-free-products-in-oa-secretome-evs-and-exosomes/
CATEGORIES:Continuous Education,EFORT EOTEP Event,EFORT Webinar,EOTEP Event,General Orthopaedics,Research,Surgery Methods
END:VEVENT
END:VCALENDAR