BEGIN:VCALENDAR
VERSION:2.0
PRODID:-//Brew With Bones - Calendar - ECPv6.6.4.2//NONSGML v1.0//EN
CALSCALE:GREGORIAN
METHOD:PUBLISH
X-ORIGINAL-URL:https://calendar.brewwithbones.com
X-WR-CALDESC:Events for Brew With Bones - Calendar
REFRESH-INTERVAL;VALUE=DURATION:PT1H
X-Robots-Tag:noindex
X-PUBLISHED-TTL:PT1H
BEGIN:VTIMEZONE
TZID:UTC
BEGIN:STANDARD
TZOFFSETFROM:+0000
TZOFFSETTO:+0000
TZNAME:UTC
DTSTART:20250101T000000
END:STANDARD
END:VTIMEZONE
BEGIN:VEVENT
DTSTART;VALUE=DATE:20251119
DTEND;VALUE=DATE:20251120
DTSTAMP:20260421T211256
CREATED:20251113T045522Z
LAST-MODIFIED:20251113T045522Z
UID:2451-1763510400-1763596799@calendar.brewwithbones.com
SUMMARY:AFAS Focus Meeting 2025
DESCRIPTION:
URL:https://calendar.brewwithbones.com/event/afas-focus-meeting-2025/
LOCATION:Barcelona\, Spain
CATEGORIES:Conference,Foot & Ankle,Foot & Ankle Trauma,Sports Trauma & Orthopaedics
END:VEVENT
END:VCALENDAR