BEGIN:VCALENDAR
VERSION:2.0
PRODID:-//Brew With Bones - Calendar - ECPv6.6.4.2//NONSGML v1.0//EN
CALSCALE:GREGORIAN
METHOD:PUBLISH
X-WR-CALNAME:Brew With Bones - Calendar
X-ORIGINAL-URL:https://calendar.brewwithbones.com
X-WR-CALDESC:Events for Brew With Bones - Calendar
REFRESH-INTERVAL;VALUE=DURATION:PT1H
X-Robots-Tag:noindex
X-PUBLISHED-TTL:PT1H
BEGIN:VTIMEZONE
TZID:UTC
BEGIN:STANDARD
TZOFFSETFROM:+0000
TZOFFSETTO:+0000
TZNAME:UTC
DTSTART:20260101T000000
END:STANDARD
END:VTIMEZONE
BEGIN:VEVENT
DTSTART;VALUE=DATE:20260418
DTEND;VALUE=DATE:20260422
DTSTAMP:20260419T221954
CREATED:20251201T040031Z
LAST-MODIFIED:20251201T040031Z
UID:2692-1776470400-1776815999@calendar.brewwithbones.com
SUMMARY:22º Congresso Brasileiro de Cirurgia do Tornozelo e Pé 2026
DESCRIPTION:
URL:https://calendar.brewwithbones.com/event/22o-congresso-brasileiro-de-cirurgia-do-tornozelo-e-pe-2026/
LOCATION:Moema – São Paulo\, Brazil
CATEGORIES:Congress,Foot & Ankle,Foot & Ankle Trauma
END:VEVENT
BEGIN:VEVENT
DTSTART;VALUE=DATE:20260915
DTEND;VALUE=DATE:20260920
DTSTAMP:20260419T221954
CREATED:20251201T052227Z
LAST-MODIFIED:20251201T052227Z
UID:2734-1789430400-1789862399@calendar.brewwithbones.com
SUMMARY:American Orthopaedic Foot & Ankle Society (AOFAS) Annual Meeting and IFFAS Triennial Scientific Meeting
DESCRIPTION:
URL:https://calendar.brewwithbones.com/event/american-orthopaedic-foot-ankle-society-aofas-annual-meeting-and-iffas-triennial-scientific-meeting/
LOCATION:Seattle\, United States
CATEGORIES:Congress,Foot & Ankle,Foot & Ankle Trauma
END:VEVENT
BEGIN:VEVENT
DTSTART;VALUE=DATE:20261106
DTEND;VALUE=DATE:20261108
DTSTAMP:20260419T221954
CREATED:20260329T183627Z
LAST-MODIFIED:20260329T183627Z
UID:2794-1793923200-1794095999@calendar.brewwithbones.com
SUMMARY:D.A.F. Certificate Course II – Surgery Course Forefoot Surgery
DESCRIPTION:
URL:https://calendar.brewwithbones.com/event/d-a-f-certificate-course-ii-surgery-course-forefoot-surgery/
LOCATION:Stuttgart\, Germany\, Germany
CATEGORIES:Course,Foot & Ankle,Foot & Ankle Trauma
END:VEVENT
BEGIN:VEVENT
DTSTART;VALUE=DATE:20261106
DTEND;VALUE=DATE:20261108
DTSTAMP:20260419T221954
CREATED:20260329T183827Z
LAST-MODIFIED:20260329T183827Z
UID:2797-1793923200-1794095999@calendar.brewwithbones.com
SUMMARY:D.A.F. Certificate Course VI – Workshop Children’s Foot
DESCRIPTION:
URL:https://calendar.brewwithbones.com/event/d-a-f-certificate-course-vi-workshop-childrens-foot/
LOCATION:Stuttgart\, Germany\, Germany
CATEGORIES:Course,Foot & Ankle,Foot & Ankle Trauma,Paediatrics
END:VEVENT
BEGIN:VEVENT
DTSTART;VALUE=DATE:20261107
DTEND;VALUE=DATE:20261108
DTSTAMP:20260419T221954
CREATED:20260329T184252Z
LAST-MODIFIED:20260329T184252Z
UID:2802-1794009600-1794095999@calendar.brewwithbones.com
SUMMARY:Annual Course of the Emilia-Romagna Triveneto Society of Orthopedics and Traumatology (SERTOT) “Cartilaginous Lesions of the Lower Limb: From Conservative Treatment to Prosthetic Options”
DESCRIPTION:
URL:https://calendar.brewwithbones.com/event/annual-course-of-the-emilia-romagna-triveneto-society-of-orthopedics-and-traumatology-sertot-cartilaginous-lesions-of-the-lower-limb-from-conservative-treatment-to-prosthetic-options/
LOCATION:Trieste\, Italy\, Italy
CATEGORIES:Arthroplasty,Biomaterials & Registry Study,Course,Foot & Ankle,Foot & Ankle Trauma,Hip & Femur,Knee & Lower Leg,Knee & Lower Leg Trauma,Lower Limbs,Pelvic & Hip Trauma,Pelvis,Traumatology
END:VEVENT
BEGIN:VEVENT
DTSTART;VALUE=DATE:20261126
DTEND;VALUE=DATE:20261127
DTSTAMP:20260419T221954
CREATED:20260329T191258Z
LAST-MODIFIED:20260329T191258Z
UID:2859-1795651200-1795737599@calendar.brewwithbones.com
SUMMARY:DFAS Foot and Ankle Course (formerly Starter Course) 2026
DESCRIPTION:
URL:https://calendar.brewwithbones.com/event/dfas-foot-and-ankle-course-formerly-starter-course-2026/
LOCATION:Sint-Michielsgestel\, Netherlands\, Netherlands
CATEGORIES:Course,Foot & Ankle,Foot & Ankle Trauma
END:VEVENT
BEGIN:VEVENT
DTSTART;VALUE=DATE:20261127
DTEND;VALUE=DATE:20261128
DTSTAMP:20260419T221954
CREATED:20260329T191823Z
LAST-MODIFIED:20260329T191823Z
UID:2867-1795737600-1795823999@calendar.brewwithbones.com
SUMMARY:DFAS Annual Symposium (formerly Advanced) 2026
DESCRIPTION:
URL:https://calendar.brewwithbones.com/event/dfas-annual-symposium-formerly-advanced-2026/
LOCATION:Sint-Michielsgestel\, Netherlands\, Netherlands
CATEGORIES:Foot & Ankle,Foot & Ankle Trauma,Symposium
END:VEVENT
BEGIN:VEVENT
DTSTART;VALUE=DATE:20261130
DTEND;VALUE=DATE:20261203
DTSTAMP:20260419T221954
CREATED:20260329T192753Z
LAST-MODIFIED:20260329T192753Z
UID:2884-1795996800-1796255999@calendar.brewwithbones.com
SUMMARY:25th Oswestry Foot & Ankle Course
DESCRIPTION:
URL:https://calendar.brewwithbones.com/event/25th-oswestry-foot-ankle-course/
LOCATION:Oswestry\, United Kingdom\, United Kingdom
CATEGORIES:Course,Foot & Ankle,Foot & Ankle Trauma
END:VEVENT
BEGIN:VEVENT
DTSTART;VALUE=DATE:20261231
DTEND;VALUE=DATE:20270101
DTSTAMP:20260419T221954
CREATED:20260330T092915Z
LAST-MODIFIED:20260330T092915Z
UID:2970-1798675200-1798761599@calendar.brewwithbones.com
SUMMARY:DGORh Certificate Rheumatic Surgery – Module 5 – Foot
DESCRIPTION:
URL:https://calendar.brewwithbones.com/event/dgorh-certificate-rheumatic-surgery-module-5-foot/
LOCATION:Berlin\, Germany
CATEGORIES:Course,Foot & Ankle,Foot & Ankle Trauma,Rheumatology
END:VEVENT
BEGIN:VEVENT
DTSTART;VALUE=DATE:20271013
DTEND;VALUE=DATE:20271017
DTSTAMP:20260419T221954
CREATED:20260330T124417Z
LAST-MODIFIED:20260330T124417Z
UID:3022-1823385600-1823731199@calendar.brewwithbones.com
SUMMARY:American Orthopaedic Foot and Ankle Society (AOFAS) 2027 Annual Meeting
DESCRIPTION:
URL:https://calendar.brewwithbones.com/event/american-orthopaedic-foot-and-ankle-society-aofas-2027-annual-meeting/
LOCATION:San Antonio\, United States\, United States
CATEGORIES:Congress,Foot & Ankle,Foot & Ankle Trauma
END:VEVENT
BEGIN:VEVENT
DTSTART;VALUE=DATE:20281018
DTEND;VALUE=DATE:20281022
DTSTAMP:20260419T221954
CREATED:20260329T194114Z
LAST-MODIFIED:20260329T194114Z
UID:2905-1855440000-1855785599@calendar.brewwithbones.com
SUMMARY:American Orthopaedic Foot and Ankle Society (AOFAS) 2028 Annual Meeting
DESCRIPTION:
URL:https://calendar.brewwithbones.com/event/american-orthopaedic-foot-and-ankle-society-aofas-2028-annual-meeting/
LOCATION:Boston\, United States\, United States
CATEGORIES:Congress,Foot & Ankle,Foot & Ankle Trauma
END:VEVENT
END:VCALENDAR