BEGIN:VCALENDAR
VERSION:2.0
PRODID:-//Brew With Bones - Calendar - ECPv6.6.4.2//NONSGML v1.0//EN
CALSCALE:GREGORIAN
METHOD:PUBLISH
X-WR-CALNAME:Brew With Bones - Calendar
X-ORIGINAL-URL:https://calendar.brewwithbones.com
X-WR-CALDESC:Events for Brew With Bones - Calendar
REFRESH-INTERVAL;VALUE=DURATION:PT1H
X-Robots-Tag:noindex
X-PUBLISHED-TTL:PT1H
BEGIN:VTIMEZONE
TZID:UTC
BEGIN:STANDARD
TZOFFSETFROM:+0000
TZOFFSETTO:+0000
TZNAME:UTC
DTSTART:20260101T000000
END:STANDARD
END:VTIMEZONE
BEGIN:VEVENT
DTSTART;VALUE=DATE:20260415
DTEND;VALUE=DATE:20260420
DTSTAMP:20260419T203004
CREATED:20251201T035515Z
LAST-MODIFIED:20251201T035515Z
UID:2682-1776211200-1776643199@calendar.brewwithbones.com
SUMMARY:Mid-America Orthopaedic Association 2026 Annual Meeting
DESCRIPTION:
URL:https://calendar.brewwithbones.com/event/mid-america-orthopaedic-association-2026-annual-meeting/
LOCATION:Point Clear\, United States
CATEGORIES:Congress,General Orthopaedics
END:VEVENT
BEGIN:VEVENT
DTSTART;VALUE=DATE:20260416
DTEND;VALUE=DATE:20260420
DTSTAMP:20260419T203004
CREATED:20251201T035849Z
LAST-MODIFIED:20251201T035849Z
UID:2689-1776297600-1776643199@calendar.brewwithbones.com
SUMMARY:California Orthopaedic Association 2026 Annual Meeting/QME Course
DESCRIPTION: 
URL:https://calendar.brewwithbones.com/event/california-orthopaedic-association-2026-annual-meeting-qme-course/
LOCATION:Santa Barbara\, United States
CATEGORIES:Congress,General Orthopaedics
END:VEVENT
BEGIN:VEVENT
DTSTART;VALUE=DATE:20260504
DTEND;VALUE=DATE:20260507
DTSTAMP:20260419T203004
CREATED:20251201T041209Z
LAST-MODIFIED:20251201T041209Z
UID:2707-1777852800-1778111999@calendar.brewwithbones.com
SUMMARY:27th EFORT Annual Congress Málaga 2026
DESCRIPTION:
URL:https://calendar.brewwithbones.com/event/27th-efort-annual-congress-malaga-2026/
LOCATION:Málaga\, Spain
CATEGORIES:Congress,EFORT Approved Event,EFORT Congress,EFORT EOTEP Event,EFORT EOTEP General Traumatology,EOTEP Event,General Orthopaedics,Traumatology
END:VEVENT
BEGIN:VEVENT
DTSTART;VALUE=DATE:20260519
DTEND;VALUE=DATE:20260523
DTSTAMP:20260419T203004
CREATED:20251201T041634Z
LAST-MODIFIED:20251201T041634Z
UID:2715-1779148800-1779494399@calendar.brewwithbones.com
SUMMARY:OTWorld 2026
DESCRIPTION:
URL:https://calendar.brewwithbones.com/event/otworld-2026/
LOCATION:Leipzg\, Germany
CATEGORIES:Congress,General Orthopaedics,Traumatology
END:VEVENT
BEGIN:VEVENT
DTSTART;VALUE=DATE:20260521
DTEND;VALUE=DATE:20260525
DTSTAMP:20260419T203004
CREATED:20251201T042137Z
LAST-MODIFIED:20251201T042137Z
UID:2723-1779321600-1779667199@calendar.brewwithbones.com
SUMMARY:The 99th Annual Meeting of the Japanese Orthopaedic Association
DESCRIPTION:
URL:https://calendar.brewwithbones.com/event/the-99th-annual-meeting-of-the-japanese-orthopaedic-association/
LOCATION:Kobe\, Japan
CATEGORIES:Congress,General Orthopaedics,Traumatology
END:VEVENT
BEGIN:VEVENT
DTSTART;VALUE=DATE:20260608
DTEND;VALUE=DATE:20260613
DTSTAMP:20260419T203005
CREATED:20251128T152408Z
LAST-MODIFIED:20251128T152408Z
UID:2637-1780876800-1781308799@calendar.brewwithbones.com
SUMMARY:9th FORTE Summer School Magna Graecia 2026
DESCRIPTION:
URL:https://calendar.brewwithbones.com/event/9th-forte-summer-school-magna-graecia-2026/
LOCATION:Catanzaro\, Italy
CATEGORIES:Course,EOTEP Approved Event,EOTEP Event,EOTEP Featured General Traumatology,EOTEP General Education,General Orthopaedics,Traumatology
END:VEVENT
BEGIN:VEVENT
DTSTART;VALUE=DATE:20260922
DTEND;VALUE=DATE:20260925
DTSTAMP:20260419T203005
CREATED:20251201T052453Z
LAST-MODIFIED:20251201T052453Z
UID:2740-1790035200-1790294399@calendar.brewwithbones.com
SUMMARY:BOA 2026
DESCRIPTION:
URL:https://calendar.brewwithbones.com/event/boa-2026/
LOCATION:London\, United Kingdom
CATEGORIES:Congress,General Orthopaedics,Traumatology
END:VEVENT
BEGIN:VEVENT
DTSTART;VALUE=DATE:20260923
DTEND;VALUE=DATE:20260927
DTSTAMP:20260419T203005
CREATED:20251201T052654Z
LAST-MODIFIED:20251201T052654Z
UID:2742-1790121600-1790467199@calendar.brewwithbones.com
SUMMARY:23rd General Meeting of the International Society of Limb Salvage – ISOLS 2026
DESCRIPTION:
URL:https://calendar.brewwithbones.com/event/23rd-general-meeting-of-the-international-society-of-limb-salvage-isols-2026/
LOCATION:Vienna\, Austria
CATEGORIES:Congress,General Orthopaedics,Lower Limbs,Traumatology,Upper Limb
END:VEVENT
BEGIN:VEVENT
DTSTART;VALUE=DATE:20260925
DTEND;VALUE=DATE:20260927
DTSTAMP:20260419T203005
CREATED:20251201T052921Z
LAST-MODIFIED:20251201T052921Z
UID:2747-1790294400-1790467199@calendar.brewwithbones.com
SUMMARY:XVII Congress of the University Academy of Orthopedics and Traumatology (AUOT)
DESCRIPTION:
URL:https://calendar.brewwithbones.com/event/xvii-congress-of-the-university-academy-of-orthopedics-and-traumatology-auot/
LOCATION:Pavia\, Italy
CATEGORIES:Congress,General Orthopaedics,Traumatology
END:VEVENT
BEGIN:VEVENT
DTSTART;VALUE=DATE:20260929
DTEND;VALUE=DATE:20261002
DTSTAMP:20260419T203005
CREATED:20251201T053233Z
LAST-MODIFIED:20251201T053233Z
UID:2752-1790640000-1790899199@calendar.brewwithbones.com
SUMMARY:46th SICOT Orthopaedic World Congress Kyoto 2025
DESCRIPTION:
URL:https://calendar.brewwithbones.com/event/46th-sicot-orthopaedic-world-congress-kyoto-2025/
LOCATION:Kyoto\, Japan
CATEGORIES:Congress,General Orthopaedics,Traumatology
END:VEVENT
BEGIN:VEVENT
DTSTART;VALUE=DATE:20261020
DTEND;VALUE=DATE:20261024
DTSTAMP:20260419T203005
CREATED:20251128T151523Z
LAST-MODIFIED:20251128T151523Z
UID:2629-1792454400-1792799999@calendar.brewwithbones.com
SUMMARY:DKOU 2026 – Deutscher Kongress für Orthopädie und Unfallchirurgie
DESCRIPTION:
URL:https://calendar.brewwithbones.com/event/dkou-2026-deutscher-kongress-fur-orthopadie-und-unfallchirurgie/
LOCATION:Berlin\, Germany
CATEGORIES:Congress,General Orthopaedics,Traumatology
END:VEVENT
BEGIN:VEVENT
DTSTART;VALUE=DATE:20261021
DTEND;VALUE=DATE:20261025
DTSTAMP:20260419T203005
CREATED:20251128T151628Z
LAST-MODIFIED:20251128T153412Z
UID:2631-1792540800-1792886399@calendar.brewwithbones.com
SUMMARY:XXXVI Congreso Mexicano de Ortopedia y Traumatología FEMECOT 2026
DESCRIPTION:
URL:https://calendar.brewwithbones.com/event/xxxvi-congreso-mexicano-de-ortopedia-y-traumatologia-femecot-2026/
LOCATION:Ciudad de México\, Mexico
CATEGORIES:Congress,General Orthopaedics,Traumatology
END:VEVENT
BEGIN:VEVENT
DTSTART;VALUE=DATE:20261103
DTEND;VALUE=DATE:20261107
DTSTAMP:20260419T203005
CREATED:20260329T182454Z
LAST-MODIFIED:20260329T182454Z
UID:2773-1793664000-1794009599@calendar.brewwithbones.com
SUMMARY:45° CNOT – Congresso Nacional de Ortopedia e Traumatologia – Annual Meting of SPOT
DESCRIPTION:
URL:https://calendar.brewwithbones.com/event/45-cnot-congresso-nacional-de-ortopedia-e-traumatologia-annual-meting-of-spot/
LOCATION:Quarteira\, Portugal\, Portugal
CATEGORIES:Congress,General Orthopaedics,Traumatology
END:VEVENT
BEGIN:VEVENT
DTSTART;VALUE=DATE:20261103
DTEND;VALUE=DATE:20261109
DTSTAMP:20260419T203005
CREATED:20260329T182235Z
LAST-MODIFIED:20260329T182235Z
UID:2771-1793664000-1794182399@calendar.brewwithbones.com
SUMMARY:35th National Congress of the Turkish Orthopedics and Traumatology Association – TOTBİD2026
DESCRIPTION:
URL:https://calendar.brewwithbones.com/event/35th-national-congress-of-the-turkish-orthopedics-and-traumatology-association-totbid2026/
LOCATION:Antalya\, Turkey
CATEGORIES:Congress,General Orthopaedics,Traumatology
END:VEVENT
BEGIN:VEVENT
DTSTART;VALUE=DATE:20261106
DTEND;VALUE=DATE:20261108
DTSTAMP:20260419T203005
CREATED:20260329T184017Z
LAST-MODIFIED:20260329T184017Z
UID:2799-1793923200-1794095999@calendar.brewwithbones.com
SUMMARY:SOROT Congress 2026
DESCRIPTION:
URL:https://calendar.brewwithbones.com/event/sorot-congress-2026/
LOCATION:Iași\, Romania\, Romania
CATEGORIES:Congress,General Orthopaedics,Traumatology
END:VEVENT
BEGIN:VEVENT
DTSTART;VALUE=DATE:20261109
DTEND;VALUE=DATE:20261111
DTSTAMP:20260419T203005
CREATED:20260329T184529Z
LAST-MODIFIED:20260329T184529Z
UID:2808-1794182400-1794355199@calendar.brewwithbones.com
SUMMARY:6th International Conference on Arthroplasty and Orthopedic Surgery
DESCRIPTION:
URL:https://calendar.brewwithbones.com/event/6th-international-conference-on-arthroplasty-and-orthopedic-surgery/
LOCATION:Bangkok\, Thailand
CATEGORIES:Arthroplasty,Conference,General Orthopaedics
END:VEVENT
BEGIN:VEVENT
DTSTART;VALUE=DATE:20261110
DTEND;VALUE=DATE:20261111
DTSTAMP:20260419T203005
CREATED:20260329T184905Z
LAST-MODIFIED:20260329T184905Z
UID:2816-1794268800-1794355199@calendar.brewwithbones.com
SUMMARY:Young Orthopedics Denmark (YODA) PreCourse
DESCRIPTION:
URL:https://calendar.brewwithbones.com/event/young-orthopedics-denmark-yoda-precourse/
LOCATION:Copenhagen\, Denmark
CATEGORIES:Congress,General Orthopaedics,Traumatology
END:VEVENT
BEGIN:VEVENT
DTSTART;VALUE=DATE:20261111
DTEND;VALUE=DATE:20261114
DTSTAMP:20260419T203005
CREATED:20260329T185014Z
LAST-MODIFIED:20260329T185014Z
UID:2818-1794355200-1794614399@calendar.brewwithbones.com
SUMMARY:100ème SOFCOT Congrès Cannes 2026
DESCRIPTION:
URL:https://calendar.brewwithbones.com/event/100eme-sofcot-congres-cannes-2026/
LOCATION:Cannes\, France\, France
CATEGORIES:Congress,General Orthopaedics,Traumatology
END:VEVENT
BEGIN:VEVENT
DTSTART;VALUE=DATE:20261111
DTEND;VALUE=DATE:20261114
DTSTAMP:20260419T203005
CREATED:20260329T185342Z
LAST-MODIFIED:20260329T185342Z
UID:2824-1794355200-1794614399@calendar.brewwithbones.com
SUMMARY:Combined DOS + NOF Congress 2026
DESCRIPTION:
URL:https://calendar.brewwithbones.com/event/combined-dos-nof-congress-2026/
LOCATION:Copenhagen\, Denmark
CATEGORIES:Congress,General Orthopaedics,Traumatology
END:VEVENT
BEGIN:VEVENT
DTSTART;VALUE=DATE:20261111
DTEND;VALUE=DATE:20261115
DTSTAMP:20260419T203005
CREATED:20260329T185130Z
LAST-MODIFIED:20260329T185130Z
UID:2821-1794355200-1794700799@calendar.brewwithbones.com
SUMMARY:4th Congress of UOTBIH – Association of Orthopedists and Traumatologists of Bosnia and Herzegovina
DESCRIPTION:
URL:https://calendar.brewwithbones.com/event/4th-congress-of-uotbih-association-of-orthopedists-and-traumatologists-of-bosnia-and-herzegovina/
LOCATION:Sarajevo\, Bosnia and Herzegovina
CATEGORIES:Congress,General Orthopaedics,Traumatology
END:VEVENT
BEGIN:VEVENT
DTSTART;VALUE=DATE:20261126
DTEND;VALUE=DATE:20261129
DTSTAMP:20260419T203005
CREATED:20260329T191145Z
LAST-MODIFIED:20260329T191145Z
UID:2856-1795651200-1795910399@calendar.brewwithbones.com
SUMMARY:109th National Congress of the Italian Society of Orthopedics and Traumatology | SIOT 2026
DESCRIPTION:
URL:https://calendar.brewwithbones.com/event/109th-national-congress-of-the-italian-society-of-orthopedics-and-traumatology-siot-2026/
LOCATION:Milan\, Italy\, Italy
CATEGORIES:Congress,General Orthopaedics,Traumatology
END:VEVENT
BEGIN:VEVENT
DTSTART;VALUE=DATE:20261130
DTEND;VALUE=DATE:20261204
DTSTAMP:20260419T203005
CREATED:20260329T192916Z
LAST-MODIFIED:20260329T192916Z
UID:2887-1795996800-1796342399@calendar.brewwithbones.com
SUMMARY:78th Annual International Congress of the ‎the Egyptian Orthopaedic Association – EOA 2026
DESCRIPTION:
URL:https://calendar.brewwithbones.com/event/78th-annual-international-congress-of-the-the-egyptian-orthopaedic-association-eoa-2026/
LOCATION:Cairo\, Egypt
CATEGORIES:Congress,General Orthopaedics,Traumatology
END:VEVENT
BEGIN:VEVENT
DTSTART;VALUE=DATE:20261205
DTEND;VALUE=DATE:20261207
DTSTAMP:20260419T203005
CREATED:20260330T090509Z
LAST-MODIFIED:20260330T090509Z
UID:2921-1796428800-1796601599@calendar.brewwithbones.com
SUMMARY:TOTBİD Marmara Regional Meeting and Regional Family Assembly – Edirne 2026
DESCRIPTION:
URL:https://calendar.brewwithbones.com/event/totbid-marmara-regional-meeting-and-regional-family-assembly-edirne-2026/
LOCATION:Edirne\, Turkey\, Turkey
CATEGORIES:Congress,General Orthopaedics,Traumatology
END:VEVENT
BEGIN:VEVENT
DTSTART;VALUE=DATE:20261210
DTEND;VALUE=DATE:20261213
DTSTAMP:20260419T203005
CREATED:20260330T092014Z
LAST-MODIFIED:20260330T092014Z
UID:2951-1796860800-1797119999@calendar.brewwithbones.com
SUMMARY:XXI National Congress of OrtoMed – Italian Society of Orthopedics\, Medicine and Rare Diseases of the Skeleton
DESCRIPTION:
URL:https://calendar.brewwithbones.com/event/xxi-national-congress-of-ortomed-italian-society-of-orthopedics-medicine-and-rare-diseases-of-the-skeleton/
LOCATION:Florence\, Italy
CATEGORIES:Congress,General Orthopaedics,Musculoskeletal Disorders,Musculoskeletal Pathology,Systemic Disorders
END:VEVENT
BEGIN:VEVENT
DTSTART;VALUE=DATE:20261211
DTEND;VALUE=DATE:20261213
DTSTAMP:20260419T203005
CREATED:20260330T092121Z
LAST-MODIFIED:20260330T092121Z
UID:2953-1796947200-1797119999@calendar.brewwithbones.com
SUMMARY:International Congress of the Italian Society of Orthopedic Surgeons in Private Hospitals (SICOOP)
DESCRIPTION:
URL:https://calendar.brewwithbones.com/event/international-congress-of-the-italian-society-of-orthopedic-surgeons-in-private-hospitals-sicoop/
LOCATION:Riccione\, Italy\, Italy
CATEGORIES:Congress,General Orthopaedics
END:VEVENT
BEGIN:VEVENT
DTSTART;VALUE=DATE:20261219
DTEND;VALUE=DATE:20261221
DTSTAMP:20260419T203005
CREATED:20260330T092505Z
LAST-MODIFIED:20260330T092505Z
UID:2960-1797638400-1797811199@calendar.brewwithbones.com
SUMMARY:TOTBİD Central Anatolia Regional Meeting and Regional Family Assembly – Kayseri 2026
DESCRIPTION:
URL:https://calendar.brewwithbones.com/event/totbid-central-anatolia-regional-meeting-and-regional-family-assembly-kayseri-2026/
LOCATION:Kayseri\, Turkey\, Turkey
CATEGORIES:Congress,General Orthopaedics,Traumatology
END:VEVENT
BEGIN:VEVENT
DTSTART;VALUE=DATE:20270116
DTEND;VALUE=DATE:20270118
DTSTAMP:20260419T203005
CREATED:20260330T122145Z
LAST-MODIFIED:20260330T122145Z
UID:2976-1800057600-1800230399@calendar.brewwithbones.com
SUMMARY:TOTBİD Aegean Regional Meeting and Regional Family Assembly – Muğla 2027
DESCRIPTION:
URL:https://calendar.brewwithbones.com/event/totbid-aegean-regional-meeting-and-regional-family-assembly-mugla-2027/
LOCATION:Muğla\, Turkey\, Turkey
CATEGORIES:Congress,General Orthopaedics,Traumatology
END:VEVENT
BEGIN:VEVENT
DTSTART;VALUE=DATE:20270206
DTEND;VALUE=DATE:20270207
DTSTAMP:20260419T203005
CREATED:20260330T122745Z
LAST-MODIFIED:20260330T122745Z
UID:2987-1801872000-1801958399@calendar.brewwithbones.com
SUMMARY:TOTBİD Orthopedic Trauma Branch Adana Regional Meeting
DESCRIPTION:
URL:https://calendar.brewwithbones.com/event/totbid-orthopedic-trauma-branch-adana-regional-meeting/
LOCATION:Adana\, Turkey
CATEGORIES:Congress,General Orthopaedics,Traumatology
END:VEVENT
BEGIN:VEVENT
DTSTART;VALUE=DATE:20270320
DTEND;VALUE=DATE:20270322
DTSTAMP:20260419T203005
CREATED:20260330T123202Z
LAST-MODIFIED:20260330T123202Z
UID:2996-1805500800-1805673599@calendar.brewwithbones.com
SUMMARY:TOTBİD Black Sea Regional Meeting and Regional Family Assembly – Rize 2027
DESCRIPTION:
URL:https://calendar.brewwithbones.com/event/totbid-black-sea-regional-meeting-and-regional-family-assembly-rize-2027/
LOCATION:Rize\, Turkey\, Turkey
CATEGORIES:Congress,General Orthopaedics,Traumatology
END:VEVENT
BEGIN:VEVENT
DTSTART;VALUE=DATE:20270409
DTEND;VALUE=DATE:20270411
DTSTAMP:20260419T203005
CREATED:20260330T123322Z
LAST-MODIFIED:20260330T123322Z
UID:2999-1807228800-1807401599@calendar.brewwithbones.com
SUMMARY:Reconstructive surgeries in orthopedics and traumatology of the musculoskeletal system
DESCRIPTION:
URL:https://calendar.brewwithbones.com/event/reconstructive-surgeries-in-orthopedics-and-traumatology-of-the-musculoskeletal-system/
LOCATION:Katowice\, Poland\, Poland
CATEGORIES:Congress,General Orthopaedics,Traumatology
END:VEVENT
END:VCALENDAR