BEGIN:VCALENDAR
VERSION:2.0
PRODID:-//Brew With Bones - Calendar - ECPv6.6.4.2//NONSGML v1.0//EN
CALSCALE:GREGORIAN
METHOD:PUBLISH
X-ORIGINAL-URL:https://calendar.brewwithbones.com
X-WR-CALDESC:Events for Brew With Bones - Calendar
REFRESH-INTERVAL;VALUE=DURATION:PT1H
X-Robots-Tag:noindex
X-PUBLISHED-TTL:PT1H
BEGIN:VTIMEZONE
TZID:UTC
BEGIN:STANDARD
TZOFFSETFROM:+0000
TZOFFSETTO:+0000
TZNAME:UTC
DTSTART:20250101T000000
END:STANDARD
END:VTIMEZONE
BEGIN:VEVENT
DTSTART;VALUE=DATE:20251126
DTEND;VALUE=DATE:20251128
DTSTAMP:20260423T111347
CREATED:20251113T051527Z
LAST-MODIFIED:20251113T051527Z
UID:2472-1764115200-1764287999@calendar.brewwithbones.com
SUMMARY:5th Global Conference on Orthopedic Surgery
DESCRIPTION:
URL:https://calendar.brewwithbones.com/event/5th-global-conference-on-orthopedic-surgery/
LOCATION:Al Barsha\, United Arab Emirates
CATEGORIES:Conference,General Orthopaedics
END:VEVENT
BEGIN:VEVENT
DTSTART;VALUE=DATE:20251124
DTEND;VALUE=DATE:20251128
DTSTAMP:20260423T111347
CREATED:20251113T050900Z
LAST-MODIFIED:20251113T050900Z
UID:2467-1763942400-1764287999@calendar.brewwithbones.com
SUMMARY:‎77th Annual International Congress of the Egyptian ‎Orthopaedic Association 2025
DESCRIPTION:
URL:https://calendar.brewwithbones.com/event/77th-annual-international-congress-of-the-egyptian-orthopaedic-association-2025/
LOCATION:Cairo\, Egypt
CATEGORIES:Congress,General Orthopaedics,Traumatology
END:VEVENT
BEGIN:VEVENT
DTSTART;VALUE=DATE:20251124
DTEND;VALUE=DATE:20251125
DTSTAMP:20260423T111347
CREATED:20251113T051135Z
LAST-MODIFIED:20251113T051135Z
UID:2470-1763942400-1764028799@calendar.brewwithbones.com
SUMMARY:EFORT Webinar | Cell-free products in OA: secretome\, Evs and exosomes
DESCRIPTION:
URL:https://calendar.brewwithbones.com/event/efort-webinar-cell-free-products-in-oa-secretome-evs-and-exosomes/
CATEGORIES:Continuous Education,EFORT EOTEP Event,EFORT Webinar,EOTEP Event,General Orthopaedics,Research,Surgery Methods
END:VEVENT
BEGIN:VEVENT
DTSTART;VALUE=DATE:20251121
DTEND;VALUE=DATE:20251123
DTSTAMP:20260423T111347
CREATED:20251113T050409Z
LAST-MODIFIED:20251113T050409Z
UID:2458-1763683200-1763855999@calendar.brewwithbones.com
SUMMARY:15th Conference on Clinical and Forensic Traumatology – 22nd Course on Orthopedics\, Traumatology and Legal Medicine “Therapeutic innovations in the treatment of lumbosacral and lower limb pathology. Clinical\, rehabilitative and medico-legal aspects. Damage reflected in the family members and cohabitants of the injured party: operational\, clinical and legal reflections”
DESCRIPTION:
URL:https://calendar.brewwithbones.com/event/15th-conference-on-clinical-and-forensic-traumatology-22nd-course-on-orthopedics-traumatology-and-legal-medicine-therapeutic-innovations-in-the-treatment-of-lumbosacral-and-lower-l/
LOCATION:Salsomaggiore Terme \, Italy
CATEGORIES:Conference,General Orthopaedics,Traumatology
END:VEVENT
BEGIN:VEVENT
DTSTART;VALUE=DATE:20251119
DTEND;VALUE=DATE:20251121
DTSTAMP:20260423T111347
CREATED:20251113T045402Z
LAST-MODIFIED:20251113T045402Z
UID:2449-1763510400-1763683199@calendar.brewwithbones.com
SUMMARY:5th International Conference on Orthopedics\, Osteoporosis and Musculoskeletal Disorders
DESCRIPTION:
URL:https://calendar.brewwithbones.com/event/5th-international-conference-on-orthopedics-osteoporosis-and-musculoskeletal-disorders/
LOCATION:Paris\, France
CATEGORIES:Conference,Fragility Fracture,General Orthopaedics,Musculoskeletal Disorders,Osteoporosis
END:VEVENT
BEGIN:VEVENT
DTSTART;VALUE=DATE:20251119
DTEND;VALUE=DATE:20251121
DTSTAMP:20260423T111347
CREATED:20251113T045220Z
LAST-MODIFIED:20251113T045220Z
UID:2446-1763510400-1763683199@calendar.brewwithbones.com
SUMMARY:5th International Conference on Arthroplasty and Orthopedic Surgery
DESCRIPTION:
URL:https://calendar.brewwithbones.com/event/5th-international-conference-on-arthroplasty-and-orthopedic-surgery/
LOCATION:Paris\, France
CATEGORIES:Arthroplasty,Conference,General Orthopaedics
END:VEVENT
BEGIN:VEVENT
DTSTART;VALUE=DATE:20251114
DTEND;VALUE=DATE:20251115
DTSTAMP:20260423T111348
CREATED:20251113T044538Z
LAST-MODIFIED:20251113T044538Z
UID:2439-1763078400-1763164799@calendar.brewwithbones.com
SUMMARY:EWMA’s Advanced Cadaver Debridement Course
DESCRIPTION:­
URL:https://calendar.brewwithbones.com/event/ewmas-advanced-cadaver-debridement-course/
LOCATION:Watford\, United Kingdom
CATEGORIES:Course,General Orthopaedics,Traumatology
END:VEVENT
BEGIN:VEVENT
DTSTART;VALUE=DATE:20251112
DTEND;VALUE=DATE:20251115
DTSTAMP:20260423T111348
CREATED:20251113T041210Z
LAST-MODIFIED:20251113T041210Z
UID:2429-1762905600-1763164799@calendar.brewwithbones.com
SUMMARY:XIII Orthopedics and Traumatology Days
DESCRIPTION:
URL:https://calendar.brewwithbones.com/event/xiii-orthopedics-and-traumatology-days/
LOCATION:Helsinki\, Finland
CATEGORIES:Congress,General Orthopaedics,Traumatology
END:VEVENT
BEGIN:VEVENT
DTSTART;VALUE=DATE:20251112
DTEND;VALUE=DATE:20251115
DTSTAMP:20260423T111348
CREATED:20251113T041048Z
LAST-MODIFIED:20251113T041048Z
UID:2426-1762905600-1763164799@calendar.brewwithbones.com
SUMMARY:DOS Congress 2025
DESCRIPTION:
URL:https://calendar.brewwithbones.com/event/dos-congress-2025/
LOCATION:Copenhagen\, Denmark
CATEGORIES:Congress,General Orthopaedics,Traumatology
END:VEVENT
BEGIN:VEVENT
DTSTART;VALUE=DATE:20251112
DTEND;VALUE=DATE:20251115
DTSTAMP:20260423T111348
CREATED:20251113T040751Z
LAST-MODIFIED:20251113T040751Z
UID:2423-1762905600-1763164799@calendar.brewwithbones.com
SUMMARY:Congresso Anual SBOT 2025
DESCRIPTION:
URL:https://calendar.brewwithbones.com/event/congresso-anual-sbot-2025/
LOCATION:Salvador de Bahia\, Brazil
CATEGORIES:Congress,General Orthopaedics,Traumatology
END:VEVENT
END:VCALENDAR