BEGIN:VCALENDAR
VERSION:2.0
PRODID:-//Brew With Bones - Calendar - ECPv6.6.4.2//NONSGML v1.0//EN
CALSCALE:GREGORIAN
METHOD:PUBLISH
X-WR-CALNAME:Brew With Bones - Calendar
X-ORIGINAL-URL:https://calendar.brewwithbones.com
X-WR-CALDESC:Events for Brew With Bones - Calendar
REFRESH-INTERVAL;VALUE=DURATION:PT1H
X-Robots-Tag:noindex
X-PUBLISHED-TTL:PT1H
BEGIN:VTIMEZONE
TZID:UTC
BEGIN:STANDARD
TZOFFSETFROM:+0000
TZOFFSETTO:+0000
TZNAME:UTC
DTSTART:20250101T000000
END:STANDARD
END:VTIMEZONE
BEGIN:VEVENT
DTSTART;VALUE=DATE:20251113
DTEND;VALUE=DATE:20251115
DTSTAMP:20260421T151525
CREATED:20251113T041925Z
LAST-MODIFIED:20251113T050025Z
UID:2436-1762992000-1763164799@calendar.brewwithbones.com
SUMMARY:AE Master Course Revision Surgery in Hip Arthroplasty
DESCRIPTION:
URL:https://calendar.brewwithbones.com/event/ae-master-course-revision-surgery-in-hip-arthroplasty/
LOCATION:Berlin\, Germany
CATEGORIES:Arthroplasty,Course,Hip & Femur
END:VEVENT
END:VCALENDAR