BEGIN:VCALENDAR
VERSION:2.0
PRODID:-//Brew With Bones - Calendar - ECPv6.6.4.2//NONSGML v1.0//EN
CALSCALE:GREGORIAN
METHOD:PUBLISH
X-ORIGINAL-URL:https://calendar.brewwithbones.com
X-WR-CALDESC:Events for Brew With Bones - Calendar
REFRESH-INTERVAL;VALUE=DURATION:PT1H
X-Robots-Tag:noindex
X-PUBLISHED-TTL:PT1H
BEGIN:VTIMEZONE
TZID:UTC
BEGIN:STANDARD
TZOFFSETFROM:+0000
TZOFFSETTO:+0000
TZNAME:UTC
DTSTART:20260101T000000
END:STANDARD
END:VTIMEZONE
BEGIN:VEVENT
DTSTART;VALUE=DATE:20260421
DTEND;VALUE=DATE:20260423
DTSTAMP:20260421T114820
CREATED:20251201T041937Z
LAST-MODIFIED:20251201T041937Z
UID:2720-1776729600-1776902399@calendar.brewwithbones.com
SUMMARY:6th International Symposium for Surgery of the Spastic Upper Limb
DESCRIPTION:
URL:https://calendar.brewwithbones.com/event/6th-international-symposium-for-surgery-of-the-spastic-upper-limb/
LOCATION:Dublin\, Ireland
CATEGORIES:Elbow & Forearm,Musculoskeletal Disorders,Shoulder & Elbow,Symposium,Upper Limb,Wrist & Hand
END:VEVENT
BEGIN:VEVENT
DTSTART;VALUE=DATE:20260603
DTEND;VALUE=DATE:20260607
DTSTAMP:20260421T114820
CREATED:20251128T152225Z
LAST-MODIFIED:20251128T152225Z
UID:2634-1780444800-1780790399@calendar.brewwithbones.com
SUMMARY:XXXI. FESSH Congress Basel 2026
DESCRIPTION:
URL:https://calendar.brewwithbones.com/event/xxxi-fessh-congress-basel-2026/
LOCATION:Basel\, Switzerland
CATEGORIES:Congress,Wrist & Hand,Wrist & Hand Trauma
END:VEVENT
BEGIN:VEVENT
DTSTART;VALUE=DATE:20261106
DTEND;VALUE=DATE:20261107
DTSTAMP:20260421T114820
CREATED:20260329T183313Z
LAST-MODIFIED:20260329T183313Z
UID:2789-1793923200-1794009599@calendar.brewwithbones.com
SUMMARY:37th Advanced Training Seminar on Hand Surgery of the DGH
DESCRIPTION:
URL:https://calendar.brewwithbones.com/event/37th-advanced-training-seminar-on-hand-surgery-of-the-dgh/
LOCATION:Berlin\, Germany
CATEGORIES:Seminar,Wrist & Hand,Wrist & Hand Trauma
END:VEVENT
BEGIN:VEVENT
DTSTART;VALUE=DATE:20261113
DTEND;VALUE=DATE:20261115
DTSTAMP:20260421T114820
CREATED:20260329T185803Z
LAST-MODIFIED:20260329T185803Z
UID:2832-1794528000-1794700799@calendar.brewwithbones.com
SUMMARY:14th Dresden Hand Course: Restoration of Hand Function
DESCRIPTION:
URL:https://calendar.brewwithbones.com/event/14th-dresden-hand-course-restoration-of-hand-function/
LOCATION:Dresden\, Germany\, Germany
CATEGORIES:Course,Wrist & Hand,Wrist & Hand Trauma
END:VEVENT
BEGIN:VEVENT
DTSTART;VALUE=DATE:20261120
DTEND;VALUE=DATE:20261122
DTSTAMP:20260421T114820
CREATED:20260329T190821Z
LAST-MODIFIED:20260329T190821Z
UID:2849-1795132800-1795305599@calendar.brewwithbones.com
SUMMARY:TEUECD Cadaver Wrist Arthroscopy Course
DESCRIPTION:
URL:https://calendar.brewwithbones.com/event/teuecd-cadaver-wrist-arthroscopy-course/
LOCATION:Ankara\, Turkey\, Turkey
CATEGORIES:Arthroscopy,Course,Wrist & Hand,Wrist & Hand Trauma
END:VEVENT
BEGIN:VEVENT
DTSTART;VALUE=DATE:20261127
DTEND;VALUE=DATE:20261129
DTSTAMP:20260421T114820
CREATED:20260329T192056Z
LAST-MODIFIED:20260329T192056Z
UID:2871-1795737600-1795910399@calendar.brewwithbones.com
SUMMARY:Wrist Arthroscopy Course Advanced
DESCRIPTION:
URL:https://calendar.brewwithbones.com/event/wrist-arthroscopy-course-advanced/
LOCATION:Strasbourg\, France\, France
CATEGORIES:Arthroscopy,Course,Wrist & Hand,Wrist & Hand Trauma
END:VEVENT
BEGIN:VEVENT
DTSTART;VALUE=DATE:20261127
DTEND;VALUE=DATE:20261129
DTSTAMP:20260421T114820
CREATED:20260329T192157Z
LAST-MODIFIED:20260329T192157Z
UID:2874-1795737600-1795910399@calendar.brewwithbones.com
SUMMARY:Wrist Arthroscopy Course Master
DESCRIPTION:
URL:https://calendar.brewwithbones.com/event/wrist-arthroscopy-course-master/
LOCATION:Strasbourg\, France\, France
CATEGORIES:Arthroscopy,Course,Wrist & Hand,Wrist & Hand Trauma
END:VEVENT
BEGIN:VEVENT
DTSTART;VALUE=DATE:20270219
DTEND;VALUE=DATE:20270221
DTSTAMP:20260421T114820
CREATED:20260330T122846Z
LAST-MODIFIED:20260330T122846Z
UID:2989-1802995200-1803167999@calendar.brewwithbones.com
SUMMARY:TEÜECD Prof. Dr. Rıdvan Ege 22nd Advanced Hand Surgery Course
DESCRIPTION:
URL:https://calendar.brewwithbones.com/event/teuecd-prof-dr-ridvan-ege-22nd-advanced-hand-surgery-course/
LOCATION:Izmir\, Turkey
CATEGORIES:Course,Wrist & Hand,Wrist & Hand Trauma
END:VEVENT
BEGIN:VEVENT
DTSTART;VALUE=DATE:20270602
DTEND;VALUE=DATE:20270606
DTSTAMP:20260421T114820
CREATED:20260330T123827Z
LAST-MODIFIED:20260330T123827Z
UID:3010-1811894400-1812239999@calendar.brewwithbones.com
SUMMARY:XXXII. FESSH Congress Prague 2027
DESCRIPTION:
URL:https://calendar.brewwithbones.com/event/xxxii-fessh-congress-prague-2027/
LOCATION:Prague\, Czech Republic
CATEGORIES:Congress,Wrist & Hand,Wrist & Hand Trauma
END:VEVENT
BEGIN:VEVENT
DTSTART;VALUE=DATE:20280628
DTEND;VALUE=DATE:20280701
DTSTAMP:20260421T114820
CREATED:20260330T124918Z
LAST-MODIFIED:20260330T124918Z
UID:3034-1845763200-1846022399@calendar.brewwithbones.com
SUMMARY:FESSH Strasbourg 2028
DESCRIPTION:
URL:https://calendar.brewwithbones.com/event/fessh-strasbourg-2028/
LOCATION:Strasbourg\, France\, France
CATEGORIES:Course,Wrist & Hand,Wrist & Hand Trauma
END:VEVENT
BEGIN:VEVENT
DTSTART;VALUE=DATE:20280628
DTEND;VALUE=DATE:20280702
DTSTAMP:20260421T114820
CREATED:20260330T125030Z
LAST-MODIFIED:20260330T125030Z
UID:3036-1845763200-1846108799@calendar.brewwithbones.com
SUMMARY:XXXIII. FESSH Congress Strasburg 2028
DESCRIPTION:
URL:https://calendar.brewwithbones.com/event/xxxiii-fessh-congress-strasburg-2028/
LOCATION:Strasbourg\, France\, France
CATEGORIES:Congress,Wrist & Hand,Wrist & Hand Trauma
END:VEVENT
END:VCALENDAR