BEGIN:VCALENDAR
VERSION:2.0
PRODID:-//Brew With Bones - Calendar - ECPv6.6.4.2//NONSGML v1.0//EN
CALSCALE:GREGORIAN
METHOD:PUBLISH
X-WR-CALNAME:Brew With Bones - Calendar
X-ORIGINAL-URL:https://calendar.brewwithbones.com
X-WR-CALDESC:Events for Brew With Bones - Calendar
REFRESH-INTERVAL;VALUE=DURATION:PT1H
X-Robots-Tag:noindex
X-PUBLISHED-TTL:PT1H
BEGIN:VTIMEZONE
TZID:UTC
BEGIN:STANDARD
TZOFFSETFROM:+0000
TZOFFSETTO:+0000
TZNAME:UTC
DTSTART:20240101T000000
END:STANDARD
END:VTIMEZONE
BEGIN:VEVENT
DTSTART;TZID=UTC:20241215T080000
DTEND;TZID=UTC:20241217T170000
DTSTAMP:20260424T001412
CREATED:20240704T060246Z
LAST-MODIFIED:20240704T063713Z
UID:1994-1734249600-1734454800@calendar.brewwithbones.com
SUMMARY:Winter Wonderland Festival
DESCRIPTION:Kick off the holiday season at the Winter Wonderland Festival. Features include a holiday market\, ice skating rink\, live entertainment\, and a visit from Santa Claus. Warm up with hot cocoa and enjoy festive lights and decorations throughout the park.
URL:https://calendar.brewwithbones.com/event/winter-wonderland-festival/
LOCATION:Riverside Park\, No.3/2322\, Narasimman Street\, Chennai\, Tamil Nadu\, 600116\, India
CATEGORIES:Music and Arts Festivals
ATTACH;FMTTYPE=image/jpeg:https://calendar.brewwithbones.com/wp-content/uploads/2024/07/Winter-Wonderland-Festival.jpg
ORGANIZER;CN="Winter Wonderland Festival":MAILTO:info@riversidefestivals.org
END:VEVENT
BEGIN:VEVENT
DTSTART;TZID=UTC:20241031T080000
DTEND;TZID=UTC:20241031T170000
DTSTAMP:20260424T001412
CREATED:20240926T062722Z
LAST-MODIFIED:20240926T062722Z
UID:2337-1730361600-1730394000@calendar.brewwithbones.com
SUMMARY:Diwali Festival of Lights
DESCRIPTION:Experience the magic of Diwali at our Festival of Lights. Enjoy cultural performances\, traditional Indian cuisine\, and a spectacular fireworks display. Activities include rangoli making\, diya painting\, and henna art. A joyful celebration for all ages.
URL:https://calendar.brewwithbones.com/event/diwali-festival-of-lights/
CATEGORIES:Cultural Celebrations
ATTACH;FMTTYPE=image/webp:https://calendar.brewwithbones.com/wp-content/uploads/2024/07/Diwali-Festival-of-Lights.webp
END:VEVENT
BEGIN:VEVENT
DTSTART;TZID=UTC:20241023T080000
DTEND;TZID=UTC:20241024T170000
DTSTAMP:20260424T001412
CREATED:20240926T062529Z
LAST-MODIFIED:20240926T062529Z
UID:2334-1729670400-1729789200@calendar.brewwithbones.com
SUMMARY:Harvest Festival
DESCRIPTION:Celebrate the bounty of the season at the Harvest Festival! Enjoy live music\, local food vendors\, craft booths\, and family-friendly activities. Don’t miss the pumpkin patch\, hayrides\, and the harvest parade on the final day.
URL:https://calendar.brewwithbones.com/event/harvest-festival/
LOCATION:Green Valley Park\, No.3/2322\, Narasimman Street\, Chennai\, Tamil Nadu\, 600116\, India
CATEGORIES:Seasonal Festivals
ATTACH;FMTTYPE=image/jpeg:https://calendar.brewwithbones.com/wp-content/uploads/2024/07/Harvest-Festival.jpg
ORGANIZER;CN="Harvest Festival":MAILTO:info@greenvalleyevents.com
END:VEVENT
BEGIN:VEVENT
DTSTART;TZID=UTC:20241014T080000
DTEND;TZID=UTC:20241014T170000
DTSTAMP:20260424T001412
CREATED:20240926T125847Z
LAST-MODIFIED:20240926T125847Z
UID:2371-1728892800-1728925200@calendar.brewwithbones.com
SUMMARY:Saraswati puja 2024
DESCRIPTION:This festival\, dedicated to the worship of Goddess Saraswati\, marks the joyous welcome of the spring season. \n 
URL:https://calendar.brewwithbones.com/event/saraswati-puja-2024/
LOCATION:Riverside Park\, No.3/2322\, Narasimman Street\, Chennai\, Tamil Nadu\, 600116\, India
CATEGORIES:Seasonal Festivals
ATTACH;FMTTYPE=image/jpeg:https://calendar.brewwithbones.com/wp-content/uploads/2024/07/Winter-Wonderland-Festival.jpg
ORGANIZER;CN="Pooja":MAILTO:info@greenvalleyevents.com
END:VEVENT
BEGIN:VEVENT
DTSTART;TZID=UTC:20241012T080000
DTEND;TZID=UTC:20241014T170000
DTSTAMP:20260424T001412
CREATED:20240704T055053Z
LAST-MODIFIED:20240704T055136Z
UID:1986-1728720000-1728925200@calendar.brewwithbones.com
SUMMARY:Oktoberfest Celebration
DESCRIPTION:Join us for an authentic Oktoberfest experience with traditional German music\, food\, and beer. This three-day event features live bands\, dancing\, and a variety of contests including stein holding and costume competitions. Fun for the whole family with kids’ activities and crafts.
URL:https://calendar.brewwithbones.com/event/oktoberfest-celebration/
LOCATION:Downtown Plaza\, No.3/2322\, Narasimman Street\, Chennai\, Tamil Nadu\, 600116\, India
CATEGORIES:Food and Drink Festivals
ATTACH;FMTTYPE=image/jpeg:https://calendar.brewwithbones.com/wp-content/uploads/2024/07/Oktoberfest-Celebration.jpg
ORGANIZER;CN="Oktoberfest Celebration":MAILTO:contact@downtowncelebrations.org
END:VEVENT
BEGIN:VEVENT
DTSTART;TZID=UTC:20241012T080000
DTEND;TZID=UTC:20241012T170000
DTSTAMP:20260424T001412
CREATED:20240926T122329Z
LAST-MODIFIED:20240926T122622Z
UID:2359-1728720000-1728752400@calendar.brewwithbones.com
SUMMARY:Ayudha pooja
DESCRIPTION:It is the day to express gratefulness for all types of tools that are an integral part of our life. The instruments that are worshipped on the day of the festival comprise the small items such as spanners\, scissors and pins and the bigger items such as vehicles and machineries.
URL:https://calendar.brewwithbones.com/event/ayudha-pooja/
LOCATION:Riverside Park\, No.3/2322\, Narasimman Street\, Chennai\, Tamil Nadu\, 600116\, India
CATEGORIES:Seasonal Festivals
ATTACH;FMTTYPE=image/jpeg:https://calendar.brewwithbones.com/wp-content/uploads/2024/07/Winter-Wonderland-Festival.jpg
ORGANIZER;CN="Pooja":MAILTO:info@greenvalleyevents.com
END:VEVENT
END:VCALENDAR