BEGIN:VCALENDAR
VERSION:2.0
PRODID:-//Brew With Bones - Calendar - ECPv6.6.4.2//NONSGML v1.0//EN
CALSCALE:GREGORIAN
METHOD:PUBLISH
X-WR-CALNAME:Brew With Bones - Calendar
X-ORIGINAL-URL:https://calendar.brewwithbones.com
X-WR-CALDESC:Events for Brew With Bones - Calendar
REFRESH-INTERVAL;VALUE=DURATION:PT1H
X-Robots-Tag:noindex
X-PUBLISHED-TTL:PT1H
BEGIN:VTIMEZONE
TZID:UTC
BEGIN:STANDARD
TZOFFSETFROM:+0000
TZOFFSETTO:+0000
TZNAME:UTC
DTSTART:20260101T000000
END:STANDARD
END:VTIMEZONE
BEGIN:VEVENT
DTSTART;VALUE=DATE:20260609
DTEND;VALUE=DATE:20260614
DTSTAMP:20260421T132100
CREATED:20251128T152513Z
LAST-MODIFIED:20251128T152513Z
UID:2640-1780963200-1781395199@calendar.brewwithbones.com
SUMMARY:25th International Conference on Emergency Medicine ICEM 2026
DESCRIPTION:
URL:https://calendar.brewwithbones.com/event/25th-international-conference-on-emergency-medicine-icem-2026/
LOCATION:Hamburg\, Germany
CATEGORIES:Conference,Traumatology
END:VEVENT
BEGIN:VEVENT
DTSTART;VALUE=DATE:20260610
DTEND;VALUE=DATE:20260614
DTSTAMP:20260421T132100
CREATED:20251128T152614Z
LAST-MODIFIED:20251128T152614Z
UID:2643-1781049600-1781395199@calendar.brewwithbones.com
SUMMARY:San Diego Shoulder Institute: 43rd Annual San Diego Shoulder Course
DESCRIPTION:
URL:https://calendar.brewwithbones.com/event/san-diego-shoulder-institute-43rd-annual-san-diego-shoulder-course/
LOCATION:Coronado\, United States
CATEGORIES:Course,Shoulder & Elbow,Shoulder & Elbow Trauma
END:VEVENT
BEGIN:VEVENT
DTSTART;VALUE=DATE:20260614
DTEND;VALUE=DATE:20260618
DTSTAMP:20260421T132100
CREATED:20251128T152736Z
LAST-MODIFIED:20251128T152736Z
UID:2646-1781395200-1781740799@calendar.brewwithbones.com
SUMMARY:Congress of the European Federation of Societies for Microsurgery Prague EFSM 2026
DESCRIPTION:
URL:https://calendar.brewwithbones.com/event/congress-of-the-european-federation-of-societies-for-microsurgery-prague-efsm-2026/
LOCATION:Prague\, Czech Republic
CATEGORIES:Congress,Microsurgery
END:VEVENT
BEGIN:VEVENT
DTSTART;VALUE=DATE:20260618
DTEND;VALUE=DATE:20260620
DTSTAMP:20260421T132100
CREATED:20251128T152839Z
LAST-MODIFIED:20251128T152839Z
UID:2649-1781740800-1781913599@calendar.brewwithbones.com
SUMMARY:28th AE Annual Congress Munich 2026
DESCRIPTION:
URL:https://calendar.brewwithbones.com/event/28th-ae-annual-congress-munich-2026/
LOCATION:Munich\, Germany
CATEGORIES:Arthroplasty,Congress
END:VEVENT
BEGIN:VEVENT
DTSTART;VALUE=DATE:20260625
DTEND;VALUE=DATE:20260627
DTSTAMP:20260421T132100
CREATED:20251128T152941Z
LAST-MODIFIED:20251128T152941Z
UID:2651-1782345600-1782518399@calendar.brewwithbones.com
SUMMARY:EPOS BAT Advanced course: Paediatric Upper Limb
DESCRIPTION:
URL:https://calendar.brewwithbones.com/event/epos-bat-advanced-course-paediatric-upper-limb/
LOCATION:Helsinki\, Finland
CATEGORIES:Course,Paediatric Orthopaedics,Paediatric Trauma
END:VEVENT
BEGIN:VEVENT
DTSTART;VALUE=DATE:20260911
DTEND;VALUE=DATE:20260913
DTSTAMP:20260421T132100
CREATED:20251201T052116Z
LAST-MODIFIED:20251201T052116Z
UID:2731-1789084800-1789257599@calendar.brewwithbones.com
SUMMARY:ESSKA–EKA Focus Meeting 2026 “All About Fast-Track Knee Arthroplasty: In the Era of Technology and Digital Health”
DESCRIPTION:
URL:https://calendar.brewwithbones.com/event/esska-eka-focus-meeting-2026-all-about-fast-track-knee-arthroplasty-in-the-era-of-technology-and-digital-health/
LOCATION:Thessaloniki\, Greece
CATEGORIES:Arthroplasty,Conference,Knee & Lower Leg,Knee & Lower Leg Trauma
END:VEVENT
BEGIN:VEVENT
DTSTART;VALUE=DATE:20260915
DTEND;VALUE=DATE:20260920
DTSTAMP:20260421T132100
CREATED:20251201T052227Z
LAST-MODIFIED:20251201T052227Z
UID:2734-1789430400-1789862399@calendar.brewwithbones.com
SUMMARY:American Orthopaedic Foot & Ankle Society (AOFAS) Annual Meeting and IFFAS Triennial Scientific Meeting
DESCRIPTION:
URL:https://calendar.brewwithbones.com/event/american-orthopaedic-foot-ankle-society-aofas-annual-meeting-and-iffas-triennial-scientific-meeting/
LOCATION:Seattle\, United States
CATEGORIES:Congress,Foot & Ankle,Foot & Ankle Trauma
END:VEVENT
BEGIN:VEVENT
DTSTART;VALUE=DATE:20260917
DTEND;VALUE=DATE:20260920
DTSTAMP:20260421T132100
CREATED:20251201T052348Z
LAST-MODIFIED:20251201T052348Z
UID:2737-1789603200-1789862399@calendar.brewwithbones.com
SUMMARY:Joint EBJIS-MSIS 2026 Conference
DESCRIPTION:
URL:https://calendar.brewwithbones.com/event/joint-ebjis-msis-2026-conference/
LOCATION:Porto\, Portugal
CATEGORIES:Bone & Joint,Bone & Joint Infection,Conference,Musculoskeletal Infections
END:VEVENT
BEGIN:VEVENT
DTSTART;VALUE=DATE:20260922
DTEND;VALUE=DATE:20260925
DTSTAMP:20260421T132100
CREATED:20251201T052453Z
LAST-MODIFIED:20251201T052453Z
UID:2740-1790035200-1790294399@calendar.brewwithbones.com
SUMMARY:BOA 2026
DESCRIPTION:
URL:https://calendar.brewwithbones.com/event/boa-2026/
LOCATION:London\, United Kingdom
CATEGORIES:Congress,General Orthopaedics,Traumatology
END:VEVENT
BEGIN:VEVENT
DTSTART;VALUE=DATE:20260923
DTEND;VALUE=DATE:20260927
DTSTAMP:20260421T132100
CREATED:20251201T052654Z
LAST-MODIFIED:20251201T052654Z
UID:2742-1790121600-1790467199@calendar.brewwithbones.com
SUMMARY:23rd General Meeting of the International Society of Limb Salvage – ISOLS 2026
DESCRIPTION:
URL:https://calendar.brewwithbones.com/event/23rd-general-meeting-of-the-international-society-of-limb-salvage-isols-2026/
LOCATION:Vienna\, Austria
CATEGORIES:Congress,General Orthopaedics,Lower Limbs,Traumatology,Upper Limb
END:VEVENT
BEGIN:VEVENT
DTSTART;VALUE=DATE:20260923
DTEND;VALUE=DATE:20260927
DTSTAMP:20260421T132100
CREATED:20251201T052822Z
LAST-MODIFIED:20251201T052822Z
UID:2744-1790121600-1790467199@calendar.brewwithbones.com
SUMMARY:Orthopaedic Trauma Association (OTA) Annual Meeting 2026
DESCRIPTION:
URL:https://calendar.brewwithbones.com/event/orthopaedic-trauma-association-ota-annual-meeting-2026/
LOCATION:Nashville\, United States
CATEGORIES:Congress,Traumatology
END:VEVENT
BEGIN:VEVENT
DTSTART;VALUE=DATE:20260925
DTEND;VALUE=DATE:20260927
DTSTAMP:20260421T132100
CREATED:20251201T052921Z
LAST-MODIFIED:20251201T052921Z
UID:2747-1790294400-1790467199@calendar.brewwithbones.com
SUMMARY:XVII Congress of the University Academy of Orthopedics and Traumatology (AUOT)
DESCRIPTION:
URL:https://calendar.brewwithbones.com/event/xvii-congress-of-the-university-academy-of-orthopedics-and-traumatology-auot/
LOCATION:Pavia\, Italy
CATEGORIES:Congress,General Orthopaedics,Traumatology
END:VEVENT
BEGIN:VEVENT
DTSTART;VALUE=DATE:20260928
DTEND;VALUE=DATE:20260929
DTSTAMP:20260421T132100
CREATED:20251201T053121Z
LAST-MODIFIED:20251201T053121Z
UID:2750-1790553600-1790639999@calendar.brewwithbones.com
SUMMARY:EFORT Webinar | Three-Dimensional Planning in Trauma
DESCRIPTION:
URL:https://calendar.brewwithbones.com/event/efort-webinar-three-dimensional-planning-in-trauma/
CATEGORIES:EFORT EOTEP General Traumatology,EFORT Webinar,EOTEP Event,Methodology,Quality Management,Traumatology
END:VEVENT
BEGIN:VEVENT
DTSTART;VALUE=DATE:20260929
DTEND;VALUE=DATE:20261002
DTSTAMP:20260421T132100
CREATED:20251201T053233Z
LAST-MODIFIED:20251201T053233Z
UID:2752-1790640000-1790899199@calendar.brewwithbones.com
SUMMARY:46th SICOT Orthopaedic World Congress Kyoto 2025
DESCRIPTION:
URL:https://calendar.brewwithbones.com/event/46th-sicot-orthopaedic-world-congress-kyoto-2025/
LOCATION:Kyoto\, Japan
CATEGORIES:Congress,General Orthopaedics,Traumatology
END:VEVENT
BEGIN:VEVENT
DTSTART;VALUE=DATE:20261001
DTEND;VALUE=DATE:20261004
DTSTAMP:20260421T132100
CREATED:20251128T150850Z
LAST-MODIFIED:20251128T150850Z
UID:2615-1790812800-1791071999@calendar.brewwithbones.com
SUMMARY:FACE AHEAD 2026: Excellence Beyond Boundaries
DESCRIPTION:
URL:https://calendar.brewwithbones.com/event/face-ahead-2026-excellence-beyond-boundaries/
LOCATION:Bangkok\, Thailand
CATEGORIES:Congress,Craniomaxillofacial
END:VEVENT
BEGIN:VEVENT
DTSTART;VALUE=DATE:20261007
DTEND;VALUE=DATE:20261010
DTSTAMP:20260421T132100
CREATED:20251128T151159Z
LAST-MODIFIED:20251128T151159Z
UID:2621-1791331200-1791590399@calendar.brewwithbones.com
SUMMARY:EUROSPINE 2026
DESCRIPTION:
URL:https://calendar.brewwithbones.com/event/eurospine-2026/
LOCATION:Gothenburg\, Sweden
CATEGORIES:Congress,Spine (incl. trauma)
END:VEVENT
BEGIN:VEVENT
DTSTART;VALUE=DATE:20261007
DTEND;VALUE=DATE:20261012
DTSTAMP:20260421T132100
CREATED:20251128T151047Z
LAST-MODIFIED:20251128T151047Z
UID:2618-1791331200-1791763199@calendar.brewwithbones.com
SUMMARY:61st Scoliosis Research Society Annual Meeting SRS 2026
DESCRIPTION:
URL:https://calendar.brewwithbones.com/event/61st-scoliosis-research-society-annual-meeting-srs-2026/
LOCATION:Sydney\, Australia
CATEGORIES:Congress,Musculoskeletal Disorders,Musculoskeletal Pathology,Scoliosis
END:VEVENT
BEGIN:VEVENT
DTSTART;VALUE=DATE:20261008
DTEND;VALUE=DATE:20261011
DTSTAMP:20260421T132100
CREATED:20251128T151323Z
LAST-MODIFIED:20251128T151323Z
UID:2623-1791417600-1791676799@calendar.brewwithbones.com
SUMMARY:ISHA – The Hip Preservation Society Annual Scientific Meeting ISHA 2026
DESCRIPTION:
URL:https://calendar.brewwithbones.com/event/isha-the-hip-preservation-society-annual-scientific-meeting-isha-2026/
LOCATION:Bruges\, Belgium
CATEGORIES:Congress,Hip & Femur,Pelvic & Hip Trauma,Pelvis
END:VEVENT
BEGIN:VEVENT
DTSTART;VALUE=DATE:20261015
DTEND;VALUE=DATE:20261017
DTSTAMP:20260421T132100
CREATED:20251128T151422Z
LAST-MODIFIED:20251128T151422Z
UID:2626-1792022400-1792195199@calendar.brewwithbones.com
SUMMARY:The 41st Annual Orthopaedic Research Meeting of the Japanese Orthopaedic Association
DESCRIPTION:
URL:https://calendar.brewwithbones.com/event/the-41st-annual-orthopaedic-research-meeting-of-the-japanese-orthopaedic-association/
LOCATION:Gifu\, Japan
CATEGORIES:Congress,Research
END:VEVENT
BEGIN:VEVENT
DTSTART;VALUE=DATE:20261020
DTEND;VALUE=DATE:20261024
DTSTAMP:20260421T132100
CREATED:20251128T151523Z
LAST-MODIFIED:20251128T151523Z
UID:2629-1792454400-1792799999@calendar.brewwithbones.com
SUMMARY:DKOU 2026 – Deutscher Kongress für Orthopädie und Unfallchirurgie
DESCRIPTION:
URL:https://calendar.brewwithbones.com/event/dkou-2026-deutscher-kongress-fur-orthopadie-und-unfallchirurgie/
LOCATION:Berlin\, Germany
CATEGORIES:Congress,General Orthopaedics,Traumatology
END:VEVENT
BEGIN:VEVENT
DTSTART;VALUE=DATE:20261021
DTEND;VALUE=DATE:20261025
DTSTAMP:20260421T132100
CREATED:20251128T151628Z
LAST-MODIFIED:20251128T153412Z
UID:2631-1792540800-1792886399@calendar.brewwithbones.com
SUMMARY:XXXVI Congreso Mexicano de Ortopedia y Traumatología FEMECOT 2026
DESCRIPTION:
URL:https://calendar.brewwithbones.com/event/xxxvi-congreso-mexicano-de-ortopedia-y-traumatologia-femecot-2026/
LOCATION:Ciudad de México\, Mexico
CATEGORIES:Congress,General Orthopaedics,Traumatology
END:VEVENT
BEGIN:VEVENT
DTSTART;VALUE=DATE:20261102
DTEND;VALUE=DATE:20261104
DTSTAMP:20260421T132100
CREATED:20260329T181547Z
LAST-MODIFIED:20260329T181547Z
UID:2765-1793577600-1793750399@calendar.brewwithbones.com
SUMMARY:Infectious Surgery Course Aarhus 2026
DESCRIPTION:
URL:https://calendar.brewwithbones.com/event/infectious-surgery-course-aarhus-2026/
LOCATION:Aarhus\, Denmark\, Denmark
CATEGORIES:Bone & Joint Infection,Course,Musculoskeletal Infections
END:VEVENT
BEGIN:VEVENT
DTSTART;VALUE=DATE:20261102
DTEND;VALUE=DATE:20261106
DTSTAMP:20260421T132100
CREATED:20260329T182106Z
LAST-MODIFIED:20260329T182106Z
UID:2768-1793577600-1793923199@calendar.brewwithbones.com
SUMMARY:Theoretical-Practical Course in Periprosthetic Fracture Surgery
DESCRIPTION:
URL:https://calendar.brewwithbones.com/event/theoretical-practical-course-in-periprosthetic-fracture-surgery/
LOCATION:Biella\, Italy\, Italy
CATEGORIES:Course,Traumatology
END:VEVENT
BEGIN:VEVENT
DTSTART;VALUE=DATE:20261103
DTEND;VALUE=DATE:20261107
DTSTAMP:20260421T132100
CREATED:20260329T182454Z
LAST-MODIFIED:20260329T182454Z
UID:2773-1793664000-1794009599@calendar.brewwithbones.com
SUMMARY:45° CNOT – Congresso Nacional de Ortopedia e Traumatologia – Annual Meting of SPOT
DESCRIPTION:
URL:https://calendar.brewwithbones.com/event/45-cnot-congresso-nacional-de-ortopedia-e-traumatologia-annual-meting-of-spot/
LOCATION:Quarteira\, Portugal\, Portugal
CATEGORIES:Congress,General Orthopaedics,Traumatology
END:VEVENT
BEGIN:VEVENT
DTSTART;VALUE=DATE:20261103
DTEND;VALUE=DATE:20261109
DTSTAMP:20260421T132100
CREATED:20260329T182235Z
LAST-MODIFIED:20260329T182235Z
UID:2771-1793664000-1794182399@calendar.brewwithbones.com
SUMMARY:35th National Congress of the Turkish Orthopedics and Traumatology Association – TOTBİD2026
DESCRIPTION:
URL:https://calendar.brewwithbones.com/event/35th-national-congress-of-the-turkish-orthopedics-and-traumatology-association-totbid2026/
LOCATION:Antalya\, Turkey
CATEGORIES:Congress,General Orthopaedics,Traumatology
END:VEVENT
BEGIN:VEVENT
DTSTART;VALUE=DATE:20261105
DTEND;VALUE=DATE:20261107
DTSTAMP:20260421T132100
CREATED:20260329T182615Z
LAST-MODIFIED:20260329T182615Z
UID:2776-1793836800-1794009599@calendar.brewwithbones.com
SUMMARY:6th Europe Region Physiotherapy Congress
DESCRIPTION:
URL:https://calendar.brewwithbones.com/event/6th-europe-region-physiotherapy-congress/
LOCATION:Madrid\, Spain\, Spain
CATEGORIES:Congress,Physiotherapy
END:VEVENT
BEGIN:VEVENT
DTSTART;VALUE=DATE:20261105
DTEND;VALUE=DATE:20261107
DTSTAMP:20260421T132100
CREATED:20260329T182746Z
LAST-MODIFIED:20260329T182746Z
UID:2779-1793836800-1794009599@calendar.brewwithbones.com
SUMMARY:Advanced knowledge and foundation of modern paediatric orthopedics – Knee
DESCRIPTION:
URL:https://calendar.brewwithbones.com/event/advanced-knowledge-and-foundation-of-modern-paediatric-orthopedics-knee/
LOCATION:Basel\, Switzerland
CATEGORIES:Course,Knee & Lower Leg,Knee & Lower Leg Trauma,Paediatrics
END:VEVENT
BEGIN:VEVENT
DTSTART;VALUE=DATE:20261105
DTEND;VALUE=DATE:20261107
DTSTAMP:20260421T132100
CREATED:20260329T183122Z
LAST-MODIFIED:20260329T183122Z
UID:2786-1793836800-1794009599@calendar.brewwithbones.com
SUMMARY:Wexham Cruciate Meeting
DESCRIPTION:
URL:https://calendar.brewwithbones.com/event/wexham-cruciate-meeting/
LOCATION:Berkshire\, United Kingdom\, United Kingdom
CATEGORIES:Course,Knee & Lower Leg,Knee & Lower Leg Trauma
END:VEVENT
BEGIN:VEVENT
DTSTART;VALUE=DATE:20261105
DTEND;VALUE=DATE:20261108
DTSTAMP:20260421T132100
CREATED:20260329T182902Z
LAST-MODIFIED:20260329T182902Z
UID:2781-1793836800-1794095999@calendar.brewwithbones.com
SUMMARY:DGOOC Course – Tumor Orthopedics
DESCRIPTION:
URL:https://calendar.brewwithbones.com/event/dgooc-course-tumor-orthopedics/
LOCATION:Berlin\, Germany
CATEGORIES:Course,Musculoskeletal Oncology,Musculoskeletal Tumors
END:VEVENT
BEGIN:VEVENT
DTSTART;VALUE=DATE:20261105
DTEND;VALUE=DATE:20261108
DTSTAMP:20260421T132100
CREATED:20260329T183014Z
LAST-MODIFIED:20260329T183014Z
UID:2783-1793836800-1794095999@calendar.brewwithbones.com
SUMMARY:Global Elbow Network – GEN Annual Meeting
DESCRIPTION:
URL:https://calendar.brewwithbones.com/event/global-elbow-network-gen-annual-meeting/
LOCATION:Lisbon\, Portugal\, Portugal
CATEGORIES:Congress,Elbow & Forearm,Elbow & Forearm Trauma,Shoulder & Elbow,Shoulder & Elbow Trauma
END:VEVENT
END:VCALENDAR