BEGIN:VCALENDAR
VERSION:2.0
PRODID:-//Brew With Bones - Calendar - ECPv6.6.4.2//NONSGML v1.0//EN
CALSCALE:GREGORIAN
METHOD:PUBLISH
X-ORIGINAL-URL:https://calendar.brewwithbones.com
X-WR-CALDESC:Events for Brew With Bones - Calendar
REFRESH-INTERVAL;VALUE=DURATION:PT1H
X-Robots-Tag:noindex
X-PUBLISHED-TTL:PT1H
BEGIN:VTIMEZONE
TZID:UTC
BEGIN:STANDARD
TZOFFSETFROM:+0000
TZOFFSETTO:+0000
TZNAME:UTC
DTSTART:20260101T000000
END:STANDARD
END:VTIMEZONE
BEGIN:VEVENT
DTSTART;VALUE=DATE:20260201
DTEND;VALUE=DATE:20260205
DTSTAMP:20260423T150114
CREATED:20251113T063352Z
LAST-MODIFIED:20251113T063352Z
UID:2564-1769904000-1770249599@calendar.brewwithbones.com
SUMMARY:26th Annual AAOS/AOSSM/AANA Sports Med Course
DESCRIPTION:
URL:https://calendar.brewwithbones.com/event/26th-annual-aaos-aossm-aana-sports-med-course/
LOCATION:Summit\, United States
CATEGORIES:Congress,Sports Trauma & Orthopaedics
END:VEVENT
BEGIN:VEVENT
DTSTART;VALUE=DATE:20260203
DTEND;VALUE=DATE:20260205
DTSTAMP:20260423T150114
CREATED:20251113T063704Z
LAST-MODIFIED:20251113T063704Z
UID:2570-1770076800-1770249599@calendar.brewwithbones.com
SUMMARY:Cadaver lab and Precourse Bern Hip Symposium 2026
DESCRIPTION:
URL:https://calendar.brewwithbones.com/event/cadaver-lab-and-precourse-bern-hip-symposium-2026/
LOCATION:Bern\, Switzerland
CATEGORIES:Pelvic & Hip Trauma,Pelvis,Symposium
END:VEVENT
BEGIN:VEVENT
DTSTART;VALUE=DATE:20260203
DTEND;VALUE=DATE:20260207
DTSTAMP:20260423T150114
CREATED:20251113T063456Z
LAST-MODIFIED:20251113T063456Z
UID:2567-1770076800-1770422399@calendar.brewwithbones.com
SUMMARY:8th International Biennial Congress of Iranian Society of Knee Surgery\, Arthroscopy\, and Sports Traumatology (ISKAST2026)
DESCRIPTION:
URL:https://calendar.brewwithbones.com/event/8th-international-biennial-congress-of-iranian-society-of-knee-surgery-arthroscopy-and-sports-traumatology-iskast2026/
LOCATION:Kish Island\, Iran
CATEGORIES:Arthroscopy,Congress,Knee & Lower Leg,Knee & Lower Leg Trauma,Sports Trauma & Orthopaedics,Traumatology
END:VEVENT
BEGIN:VEVENT
DTSTART;VALUE=DATE:20260204
DTEND;VALUE=DATE:20260205
DTSTAMP:20260423T150114
CREATED:20251113T063759Z
LAST-MODIFIED:20251113T063759Z
UID:2573-1770163200-1770249599@calendar.brewwithbones.com
SUMMARY:Pre-Course of the Paris Shoulder Course 2026
DESCRIPTION:
URL:https://calendar.brewwithbones.com/event/pre-course-of-the-paris-shoulder-course-2026/
LOCATION:Paris\, France
CATEGORIES:Course,Shoulder & Elbow,Shoulder & Elbow Trauma
END:VEVENT
BEGIN:VEVENT
DTSTART;VALUE=DATE:20260205
DTEND;VALUE=DATE:20260208
DTSTAMP:20260423T150114
CREATED:20251113T063915Z
LAST-MODIFIED:20251113T063915Z
UID:2575-1770249600-1770508799@calendar.brewwithbones.com
SUMMARY:Hip Symposium Bern 2026
DESCRIPTION:
URL:https://calendar.brewwithbones.com/event/hip-symposium-bern-2026/
LOCATION:Bern\, Switzerland
CATEGORIES:Pelvic & Hip Trauma,Pelvis,Symposium
END:VEVENT
BEGIN:VEVENT
DTSTART;VALUE=DATE:20260205
DTEND;VALUE=DATE:20260208
DTSTAMP:20260423T150114
CREATED:20251113T064015Z
LAST-MODIFIED:20251113T064015Z
UID:2577-1770249600-1770508799@calendar.brewwithbones.com
SUMMARY:Paris International Shoulder Course – PISC 2026
DESCRIPTION:
URL:https://calendar.brewwithbones.com/event/paris-international-shoulder-course-pisc-2026/
LOCATION:Paris\, France
CATEGORIES:Course,Shoulder & Elbow,Shoulder & Elbow Trauma
END:VEVENT
BEGIN:VEVENT
DTSTART;VALUE=DATE:20260206
DTEND;VALUE=DATE:20260207
DTSTAMP:20260423T150114
CREATED:20251113T064238Z
LAST-MODIFIED:20251113T064238Z
UID:2582-1770336000-1770422399@calendar.brewwithbones.com
SUMMARY:Trauma and orthopaedics ST3 interview course
DESCRIPTION:
URL:https://calendar.brewwithbones.com/event/trauma-and-orthopaedics-st3-interview-course/
LOCATION:London\, United Kingdom
CATEGORIES:Basic Science,Course,General Orthopaedics,Traumatology
END:VEVENT
BEGIN:VEVENT
DTSTART;VALUE=DATE:20260206
DTEND;VALUE=DATE:20260208
DTSTAMP:20260423T150114
CREATED:20251113T064132Z
LAST-MODIFIED:20251113T064132Z
UID:2579-1770336000-1770508799@calendar.brewwithbones.com
SUMMARY:ACT 2026 – The 1st International Conference on Integrated Approaches to Combat Trauma
DESCRIPTION:
URL:https://calendar.brewwithbones.com/event/act-2026-the-1st-international-conference-on-integrated-approaches-to-combat-trauma/
LOCATION:Budapest\, Hungary
CATEGORIES:Conference,EOTEP Event,EOTEP Featured General Traumatology,Traumatology
END:VEVENT
BEGIN:VEVENT
DTSTART;VALUE=DATE:20260219
DTEND;VALUE=DATE:20260222
DTSTAMP:20260423T150114
CREATED:20251113T064340Z
LAST-MODIFIED:20251113T064340Z
UID:2585-1771459200-1771718399@calendar.brewwithbones.com
SUMMARY:11th International Musculoskeletal Ultrasound Course for Rheumatologists
DESCRIPTION:
URL:https://calendar.brewwithbones.com/event/11th-international-musculoskeletal-ultrasound-course-for-rheumatologists/
LOCATION:Athens\, Greece
CATEGORIES:Course,Rheumatology
END:VEVENT
BEGIN:VEVENT
DTSTART;VALUE=DATE:20260219
DTEND;VALUE=DATE:20260223
DTSTAMP:20260423T150114
CREATED:20251113T064434Z
LAST-MODIFIED:20251113T064434Z
UID:2588-1771459200-1771804799@calendar.brewwithbones.com
SUMMARY:42nd MOACON 2026 The Imperial Pune
DESCRIPTION:
URL:https://calendar.brewwithbones.com/event/42nd-moacon-2026-the-imperial-pune/
LOCATION:Pune\, India
CATEGORIES:Congress,General Orthopaedics,Traumatology
END:VEVENT
BEGIN:VEVENT
DTSTART;VALUE=DATE:20260222
DTEND;VALUE=DATE:20260227
DTSTAMP:20260423T150114
CREATED:20251113T064538Z
LAST-MODIFIED:20251113T064538Z
UID:2591-1771718400-1772150399@calendar.brewwithbones.com
SUMMARY:Mayo Clinic Advancements in Surgical and Medical Management of the Spine 2026
DESCRIPTION:
URL:https://calendar.brewwithbones.com/event/mayo-clinic-advancements-in-surgical-and-medical-management-of-the-spine-2026/
LOCATION:Maui – Hawaii\, United States
CATEGORIES:Course,Spine (incl. trauma)
END:VEVENT
BEGIN:VEVENT
DTSTART;VALUE=DATE:20260226
DTEND;VALUE=DATE:20260302
DTSTAMP:20260423T150114
CREATED:20251113T064655Z
LAST-MODIFIED:20251113T064655Z
UID:2594-1772064000-1772409599@calendar.brewwithbones.com
SUMMARY:32nd Annual Conference of the Paediaric Orthopaedic Society of India
DESCRIPTION:
URL:https://calendar.brewwithbones.com/event/32nd-annual-conference-of-the-paediaric-orthopaedic-society-of-india/
LOCATION:Chandigarh\, India]
CATEGORIES:Conference,Paediatric Orthopaedics,Paediatric Spine,Paediatric Trauma
END:VEVENT
BEGIN:VEVENT
DTSTART;VALUE=DATE:20260227
DTEND;VALUE=DATE:20260301
DTSTAMP:20260423T150114
CREATED:20251113T064747Z
LAST-MODIFIED:20251113T064747Z
UID:2597-1772150400-1772323199@calendar.brewwithbones.com
SUMMARY:MAC3 Masterclass Arthoscopy Course
DESCRIPTION:
URL:https://calendar.brewwithbones.com/event/mac3-masterclass-arthoscopy-course/
LOCATION:Maroussi – Athens\, Greece
CATEGORIES:Arthroscopy,Course
END:VEVENT
END:VCALENDAR