BEGIN:VCALENDAR
VERSION:2.0
PRODID:-//Brew With Bones - Calendar - ECPv6.6.4.2//NONSGML v1.0//EN
CALSCALE:GREGORIAN
METHOD:PUBLISH
X-ORIGINAL-URL:https://calendar.brewwithbones.com
X-WR-CALDESC:Events for Brew With Bones - Calendar
REFRESH-INTERVAL;VALUE=DURATION:PT1H
X-Robots-Tag:noindex
X-PUBLISHED-TTL:PT1H
BEGIN:VTIMEZONE
TZID:UTC
BEGIN:STANDARD
TZOFFSETFROM:+0000
TZOFFSETTO:+0000
TZNAME:UTC
DTSTART:20270101T000000
END:STANDARD
END:VTIMEZONE
BEGIN:VEVENT
DTSTART;VALUE=DATE:20270409
DTEND;VALUE=DATE:20270411
DTSTAMP:20260425T155932
CREATED:20260330T123322Z
LAST-MODIFIED:20260330T123322Z
UID:2999-1807228800-1807401599@calendar.brewwithbones.com
SUMMARY:Reconstructive surgeries in orthopedics and traumatology of the musculoskeletal system
DESCRIPTION:
URL:https://calendar.brewwithbones.com/event/reconstructive-surgeries-in-orthopedics-and-traumatology-of-the-musculoskeletal-system/
LOCATION:Katowice\, Poland\, Poland
CATEGORIES:Congress,General Orthopaedics,Traumatology
END:VEVENT
BEGIN:VEVENT
DTSTART;VALUE=DATE:20270410
DTEND;VALUE=DATE:20270412
DTSTAMP:20260425T155932
CREATED:20260330T123429Z
LAST-MODIFIED:20260330T123429Z
UID:3002-1807315200-1807487999@calendar.brewwithbones.com
SUMMARY:TOTBİD Eastern Anatolia Regional Meeting and Regional Family Assembly – Erzincan 2027
DESCRIPTION:
URL:https://calendar.brewwithbones.com/event/totbid-eastern-anatolia-regional-meeting-and-regional-family-assembly-erzincan-2027/
LOCATION:Erzincan\, Turkey\, Turkey
CATEGORIES:Course,General Orthopaedics,Traumatology
END:VEVENT
BEGIN:VEVENT
DTSTART;VALUE=DATE:20270422
DTEND;VALUE=DATE:20270424
DTSTAMP:20260425T155932
CREATED:20260330T123554Z
LAST-MODIFIED:20260330T123554Z
UID:3005-1808352000-1808524799@calendar.brewwithbones.com
SUMMARY:World Arthroplasty Congress – WAC 2027
DESCRIPTION:
URL:https://calendar.brewwithbones.com/event/world-arthroplasty-congress-wac-2027/
LOCATION:Brussels\, Belgium\, Belgium
CATEGORIES:Arthroplasty,Biomaterials & Registry Study,Congress,Implants
END:VEVENT
BEGIN:VEVENT
DTSTART;VALUE=DATE:20270423
DTEND;VALUE=DATE:20270426
DTSTAMP:20260425T155932
CREATED:20260330T123711Z
LAST-MODIFIED:20260330T123711Z
UID:3008-1808438400-1808697599@calendar.brewwithbones.com
SUMMARY:turkish National Arthroplasty Congress 2027
DESCRIPTION:
URL:https://calendar.brewwithbones.com/event/turkish-national-arthroplasty-congress-2027/
LOCATION:Antalya\, Turkey
CATEGORIES:Arthroplasty,Biomaterials & Registry Study,Congress,Implants
END:VEVENT
END:VCALENDAR