BEGIN:VCALENDAR
VERSION:2.0
PRODID:-//Brew With Bones - Calendar - ECPv6.6.4.2//NONSGML v1.0//EN
CALSCALE:GREGORIAN
METHOD:PUBLISH
X-ORIGINAL-URL:https://calendar.brewwithbones.com
X-WR-CALDESC:Events for Brew With Bones - Calendar
REFRESH-INTERVAL;VALUE=DURATION:PT1H
X-Robots-Tag:noindex
X-PUBLISHED-TTL:PT1H
BEGIN:VTIMEZONE
TZID:UTC
BEGIN:STANDARD
TZOFFSETFROM:+0000
TZOFFSETTO:+0000
TZNAME:UTC
DTSTART:20270101T000000
END:STANDARD
END:VTIMEZONE
BEGIN:VEVENT
DTSTART;VALUE=DATE:20270602
DTEND;VALUE=DATE:20270606
DTSTAMP:20260425T191130
CREATED:20260330T123827Z
LAST-MODIFIED:20260330T123827Z
UID:3010-1811894400-1812239999@calendar.brewwithbones.com
SUMMARY:XXXII. FESSH Congress Prague 2027
DESCRIPTION:
URL:https://calendar.brewwithbones.com/event/xxxii-fessh-congress-prague-2027/
LOCATION:Prague\, Czech Republic
CATEGORIES:Congress,Wrist & Hand,Wrist & Hand Trauma
END:VEVENT
BEGIN:VEVENT
DTSTART;VALUE=DATE:20270610
DTEND;VALUE=DATE:20270612
DTSTAMP:20260425T191130
CREATED:20260330T123923Z
LAST-MODIFIED:20260330T123923Z
UID:3012-1812585600-1812758399@calendar.brewwithbones.com
SUMMARY:1st Prof. Adam Gruca International Orthopaedic Symposium
DESCRIPTION:
URL:https://calendar.brewwithbones.com/event/1st-prof-adam-gruca-international-orthopaedic-symposium/
LOCATION:Warsaw\, Poland\, Poland
CATEGORIES:General Orthopaedics,Symposium
END:VEVENT
BEGIN:VEVENT
DTSTART;VALUE=DATE:20270625
DTEND;VALUE=DATE:20270627
DTSTAMP:20260425T191130
CREATED:20260330T124023Z
LAST-MODIFIED:20260330T124023Z
UID:3014-1813881600-1814054399@calendar.brewwithbones.com
SUMMARY:Around the Knee 3rd Edition
DESCRIPTION:
URL:https://calendar.brewwithbones.com/event/around-the-knee-3rd-edition/
LOCATION:Gdańsk\, Poland\, Poland
CATEGORIES:Course,Knee & Lower Leg,Knee & Lower Leg Trauma
END:VEVENT
END:VCALENDAR