BEGIN:VCALENDAR
VERSION:2.0
PRODID:-//Brew With Bones - Calendar - ECPv6.6.4.2//NONSGML v1.0//EN
CALSCALE:GREGORIAN
METHOD:PUBLISH
X-ORIGINAL-URL:https://calendar.brewwithbones.com
X-WR-CALDESC:Events for Brew With Bones - Calendar
REFRESH-INTERVAL;VALUE=DURATION:PT1H
X-Robots-Tag:noindex
X-PUBLISHED-TTL:PT1H
BEGIN:VTIMEZONE
TZID:UTC
BEGIN:STANDARD
TZOFFSETFROM:+0000
TZOFFSETTO:+0000
TZNAME:UTC
DTSTART:20270101T000000
END:STANDARD
END:VTIMEZONE
BEGIN:VEVENT
DTSTART;VALUE=DATE:20271007
DTEND;VALUE=DATE:20271009
DTSTAMP:20260426T015339
CREATED:20260330T124314Z
LAST-MODIFIED:20260330T124314Z
UID:3019-1822867200-1823039999@calendar.brewwithbones.com
SUMMARY:17th European Hip Society Congress | EHS London 2027
DESCRIPTION:
URL:https://calendar.brewwithbones.com/event/17th-european-hip-society-congress-ehs-london-2027/
LOCATION:London / Kensington\, United Kingdom\, United Kingdom
CATEGORIES:Congress,EOTEP Event,EOTEP Featured Hip & Pelvis,Hip & Femur,Pelvic & Hip Trauma,Pelvis
END:VEVENT
BEGIN:VEVENT
DTSTART;VALUE=DATE:20271013
DTEND;VALUE=DATE:20271017
DTSTAMP:20260426T015339
CREATED:20260330T124417Z
LAST-MODIFIED:20260330T124417Z
UID:3022-1823385600-1823731199@calendar.brewwithbones.com
SUMMARY:American Orthopaedic Foot and Ankle Society (AOFAS) 2027 Annual Meeting
DESCRIPTION:
URL:https://calendar.brewwithbones.com/event/american-orthopaedic-foot-and-ankle-society-aofas-2027-annual-meeting/
LOCATION:San Antonio\, United States\, United States
CATEGORIES:Congress,Foot & Ankle,Foot & Ankle Trauma
END:VEVENT
BEGIN:VEVENT
DTSTART;VALUE=DATE:20271027
DTEND;VALUE=DATE:20271031
DTSTAMP:20260426T015339
CREATED:20260330T124512Z
LAST-MODIFIED:20260330T124512Z
UID:3025-1824595200-1824940799@calendar.brewwithbones.com
SUMMARY:Orthopaedic Trauma Association (OTA) 2027 Annual Meeting
DESCRIPTION:
URL:https://calendar.brewwithbones.com/event/orthopaedic-trauma-association-ota-2027-annual-meeting/
LOCATION:New Orleans\, United States
CATEGORIES:Congress,General Orthopaedics,Traumatology
END:VEVENT
END:VCALENDAR